BEGIN:VCALENDAR
PRODID:-//Microsoft Corporation//Outlook 12.0 MIMEDIR//EN
VERSION:2.0
METHOD:PUBLISH
X-MS-OLK-FORCEINSPECTOROPEN:TRUE
BEGIN:VEVENT
CLASS:PUBLIC
CREATED:20260419T143611Z
DESCRIPTION:La conocida feria de innovación industrial Smart Production Solutions que se celebra en Nuremberg habitualmente pasa a formato virtual en este año.  \n \nTendremos ocasión de asistir a 60 sesiones online (la mayoría en inglés) sobre diversos aspectos de innovación para la Industria.  \n \nIgualmente se podrá asistir a una Feria Virtual con los expositores. \n \nLos principales temas de la Feria virtual son; \n \n- Motores eléctricos \n- Infraestructura mecánica \n- Tecnología Sensores \n- Tecnologías de control  \n- Software e IT para la Industria \n- Sistemas de Interfaz Humana \n- Redes y sistemas de comunicación para la Industria\n
DTSTART:20201126T100000
DTEND:20201126T190000
DTSTAMP:20260419T143611Z
LOCATION:Online
PRIORITY:5
SEQUENCE:0
SUMMARY;LANGUAGE=es-es:Tecnowebinars.com - :: Smart Production Solutions. Conferencia Online desde Nuremberg. Día 3
TRANSP:OPAQUE
UID:5cefe5394f9d11dc827933629f079d26 Tecnowebinars.com
X-MICROSOFT-CDO-BUSYSTATUS:BUSY
X-MICROSOFT-CDO-IMPORTANCE:1
X-MICROSOFT-DISALLOW-COUNTER:FALSE
X-MS-OLK-ALLOWEXTERNCHECK:TRUE
X-MS-OLK-AUTOFILLLOCATION:FALSE
X-MS-OLK-CONFTYPE:0
BEGIN:VALARM
TRIGGER:-PT1440M
ACTION:DISPLAY
DESCRIPTION:Reminder
END:VALARM
END:VEVENT
END:VCALENDAR
