BEGIN:VCALENDAR
PRODID:-//Microsoft Corporation//Outlook 12.0 MIMEDIR//EN
VERSION:2.0
METHOD:PUBLISH
X-MS-OLK-FORCEINSPECTOROPEN:TRUE
BEGIN:VEVENT
CLASS:PUBLIC
CREATED:20260419T143657Z
DESCRIPTION:Embedded applications require security. No debate there. As companies try to meet the ongoing changes in IoT device legislation, they are discovering that legislation is actually the starting point. At the same time, there's a growing need to both protect the IP and ensure that product integrity is not compromised by counterfeiting and cloning during production. In this talk, we will discuss some best practices to ensure that your application is safe and that illegal copies of your product are as difficult as possible.\nSpeaker:\nShawn Prestridge, US FAE Team Leader, IAR Systems\n \nModerator: \nRich Nass, Embedded Computing Design, OpenSystems Media\n \n
DTSTART:20201110T170000
DTEND:20201110T180000
DTSTAMP:20260419T143657Z
LOCATION:Online
PRIORITY:5
SEQUENCE:0
SUMMARY;LANGUAGE=es-es:Tecnowebinars.com - :: Best Practices to Protect IP and Deliver Secure Encrypted Code
TRANSP:OPAQUE
UID:317bd340ac603920e621bdd9a5f741db Tecnowebinars.com
X-MICROSOFT-CDO-BUSYSTATUS:BUSY
X-MICROSOFT-CDO-IMPORTANCE:1
X-MICROSOFT-DISALLOW-COUNTER:FALSE
X-MS-OLK-ALLOWEXTERNCHECK:TRUE
X-MS-OLK-AUTOFILLLOCATION:FALSE
X-MS-OLK-CONFTYPE:0
BEGIN:VALARM
TRIGGER:-PT1440M
ACTION:DISPLAY
DESCRIPTION:Reminder
END:VALARM
END:VEVENT
END:VCALENDAR
