BEGIN:VCALENDAR
PRODID:-//Microsoft Corporation//Outlook 12.0 MIMEDIR//EN
VERSION:2.0
METHOD:PUBLISH
X-MS-OLK-FORCEINSPECTOROPEN:TRUE
BEGIN:VEVENT
CLASS:PUBLIC
CREATED:20260419T131557Z
DESCRIPTION:Esta 4ta edición de la conferencia se realizará de manera digital debido a la contingencia mundial a la cual nos estamos enfrentando. Este evento reúne a 250 asistentes de +10 países y principales actores de la industria que están liderando la transformación digital en Latinoamérica, a modo de explorar el futuro próximo, tendencias, los desafíos y oportunidades bajo la "nueva realidad" a la cual se están enfrentando tanto el sector público como privado, y analizar el impacto de las nuevas tecnologías en industrias adyacentes como minería, energía, telecomunicaciones, e-commerce, retail, salud, educación, financiera, entre otras.\n \nLos temas que dominarán la discusión son la innovación y sustentabilidad, los desafíos post- pandemia y su impacto en las industrias, transformación digital en la cultura empresarial, Big Data, Ciber AI, 5G y las oportunidades del mercado latinoamericano, entre otros.\n
DTSTART:20201215T120000
DTEND:20201215T180000
DTSTAMP:20260419T131557Z
LOCATION:Online
PRIORITY:5
SEQUENCE:0
SUMMARY;LANGUAGE=es-es:Tecnowebinars.com - :: 4ta edición Latam Tech Summit
TRANSP:OPAQUE
UID:e532d102864ed5b0bf0211353ec4fe0e Tecnowebinars.com
X-MICROSOFT-CDO-BUSYSTATUS:BUSY
X-MICROSOFT-CDO-IMPORTANCE:1
X-MICROSOFT-DISALLOW-COUNTER:FALSE
X-MS-OLK-ALLOWEXTERNCHECK:TRUE
X-MS-OLK-AUTOFILLLOCATION:FALSE
X-MS-OLK-CONFTYPE:0
BEGIN:VALARM
TRIGGER:-PT1440M
ACTION:DISPLAY
DESCRIPTION:Reminder
END:VALARM
END:VEVENT
END:VCALENDAR
