BEGIN:VCALENDAR
PRODID:-//Microsoft Corporation//Outlook 12.0 MIMEDIR//EN
VERSION:2.0
METHOD:PUBLISH
X-MS-OLK-FORCEINSPECTOROPEN:TRUE
BEGIN:VEVENT
CLASS:PUBLIC
CREATED:20260419T143530Z
DESCRIPTION:La sala de metrología 3D, conforma una parte importante de la planta, la cual debe garantizar la productividad óptima. Las máquinas de medición por coordenadas que integran la sala deben estar conectadas y entregar información útil para mejorar los procesos. Os mostraremos con un ejemplo real cómo podemos modernizar la sala para aumentar su disponibilidad y permitir que los metrólogos se enfoquen en las tareas de más valor. \nEn este Webinar os invitamos a conocer el centro Metricent en Albergaria-A-Velha (Aveiro), Portugal, donde compartiremos un día de trabajo con Gabriel y Alberto, quienes nos mostrarán cómo utilizan las últimas tecnologías para tener un turno más provechoso y productivo. \n \n¿Quiénes deben asistir?  \nResponsables de Calidad, personas relacionadas con la medición en CMM y personas de Producción que quieran actualizarse en sistemas de inspección 3D de alta precisión.\n  \n¿Por qué deben asistir?  \nAprenderán cómo se puede organizar la utilización de las CMM, nuevas o ya existentes, de forma que se aumente la disponibilidad de las personas sin tener que estar pendientes de la máquina y a la vez poder interpretar mucho mejor la información que ofrecen.  \n
DTSTART:20201112T110000
DTEND:20201112T120000
DTSTAMP:20260419T143530Z
LOCATION:Online
PRIORITY:5
SEQUENCE:0
SUMMARY;LANGUAGE=es-es:Tecnowebinars.com - :: Visita una sala de Metrología 3D moderna y productiva
TRANSP:OPAQUE
UID:6e9b01ced2c4f4e2fd9aadd9a7407057 Tecnowebinars.com
X-MICROSOFT-CDO-BUSYSTATUS:BUSY
X-MICROSOFT-CDO-IMPORTANCE:1
X-MICROSOFT-DISALLOW-COUNTER:FALSE
X-MS-OLK-ALLOWEXTERNCHECK:TRUE
X-MS-OLK-AUTOFILLLOCATION:FALSE
X-MS-OLK-CONFTYPE:0
BEGIN:VALARM
TRIGGER:-PT1440M
ACTION:DISPLAY
DESCRIPTION:Reminder
END:VALARM
END:VEVENT
END:VCALENDAR
