BEGIN:VCALENDAR
PRODID:-//Microsoft Corporation//Outlook 12.0 MIMEDIR//EN
VERSION:2.0
METHOD:PUBLISH
X-MS-OLK-FORCEINSPECTOROPEN:TRUE
BEGIN:VEVENT
CLASS:PUBLIC
CREATED:20260419T143609Z
DESCRIPTION:Ekon y Marqués se unen en un nuevo webinar para exponer cuál es la situación actual del sector industrial y como la tecnología de gestión (ERP) optimiza procesos en todas las áreas de estas organizaciones.\n \nLos beneficios que obtienen las empresas manufactureras después de la implantación de un ERP específico son muy amplios. Desde la automatización de los procesos de producción al control total de la cadena de suministro o la reducción de gastos innecesarios, todo esto al alcance de un click y en una misma plataforma. Además, en el nuevo paradigma empresarial un ERP puede representar una ventaja competitiva muy importante.\n \n¿De qué hablaremos?\n \nEn primer lugar, José Antonio Gesteira, Solution Engineer en Ekon, presentará la situación actual de las empresas del sector industrial y como optimizar procesos mediante la tecnología.\n \nRoger Latorre, Jefe de Proyectos en Marqués, expondrá de forma más precisa que aportan las soluciones ERP verticalizadas para empresas de fabricación con casos de uso reales.\n
DTSTART:20201110T110000
DTEND:20201110T120000
DTSTAMP:20260419T143609Z
LOCATION:Online
PRIORITY:5
SEQUENCE:0
SUMMARY;LANGUAGE=es-es:Tecnowebinars.com - :: La importancia de integrar un MES con tu ERP Industrial
TRANSP:OPAQUE
UID:a3abb35d713f251e8284796530e30b89 Tecnowebinars.com
X-MICROSOFT-CDO-BUSYSTATUS:BUSY
X-MICROSOFT-CDO-IMPORTANCE:1
X-MICROSOFT-DISALLOW-COUNTER:FALSE
X-MS-OLK-ALLOWEXTERNCHECK:TRUE
X-MS-OLK-AUTOFILLLOCATION:FALSE
X-MS-OLK-CONFTYPE:0
BEGIN:VALARM
TRIGGER:-PT1440M
ACTION:DISPLAY
DESCRIPTION:Reminder
END:VALARM
END:VEVENT
END:VCALENDAR
