BEGIN:VCALENDAR
PRODID:-//Microsoft Corporation//Outlook 12.0 MIMEDIR//EN
VERSION:2.0
METHOD:PUBLISH
X-MS-OLK-FORCEINSPECTOROPEN:TRUE
BEGIN:VEVENT
CLASS:PUBLIC
CREATED:20260419T143610Z
DESCRIPTION:Register to attend this Webinar for an excellent chance to see the latest developments in predictive aircraft maintenance, powered by advanced data analytics from Honeywell. During the Webinar, Honeywell data experts will take you on a demo of the Connected Maintenance application, which uses advanced analytics techniques such as machine learning and artificial intelligence to tap into aircraft data streams and provide instant insights into fleet health status.\nAs you will see Connected Maintenance goes well beyond focusing on health monitoring and trend analysis. It not only predicts an imminent system issue, it also provides prescriptive information to help maintenance crews pinpoint the fault down to the subcomponent level, identifying the particular part that needs to be repaired or replaced along with the repair procedure to be followed. As a result, technicians spend less time manually troubleshooting components and get to the right fix the first time.\n
DTSTART:20201105T080000
DTEND:20201105T090000
DTSTAMP:20260419T143610Z
LOCATION:Online
PRIORITY:5
SEQUENCE:0
SUMMARY;LANGUAGE=es-es:Tecnowebinars.com - :: Predictive and Prescriptive Aircraft Maintenance Data Analytics Platform Demo Webinar
TRANSP:OPAQUE
UID:00ca814d11f1c600a44ea4e4fd88864f Tecnowebinars.com
X-MICROSOFT-CDO-BUSYSTATUS:BUSY
X-MICROSOFT-CDO-IMPORTANCE:1
X-MICROSOFT-DISALLOW-COUNTER:FALSE
X-MS-OLK-ALLOWEXTERNCHECK:TRUE
X-MS-OLK-AUTOFILLLOCATION:FALSE
X-MS-OLK-CONFTYPE:0
BEGIN:VALARM
TRIGGER:-PT1440M
ACTION:DISPLAY
DESCRIPTION:Reminder
END:VALARM
END:VEVENT
END:VCALENDAR
