BEGIN:VCALENDAR
PRODID:-//Microsoft Corporation//Outlook 12.0 MIMEDIR//EN
VERSION:2.0
METHOD:PUBLISH
X-MS-OLK-FORCEINSPECTOROPEN:TRUE
BEGIN:VEVENT
CLASS:PUBLIC
CREATED:20260419T143637Z
DESCRIPTION:Te invitamos a participar en la cuarta edición del DE-CIX Madrid Summit, que reunirá en formato virtual a expertos en interconexión para hablar sobre:\nEl nuevo papel de Madrid y el sur de Europa en el mapa global de interconexión\nEl impacto de la digitalización de los modelos de negocio sobre los servicios de interconexión\n
DTSTART:20201112T100000
DTEND:20201112T110000
DTSTAMP:20260419T143637Z
LOCATION:Online
PRIORITY:5
SEQUENCE:0
SUMMARY;LANGUAGE=es-es:Tecnowebinars.com - :: DE-CIX Interconnection Summit Madrid 2020 edition
TRANSP:OPAQUE
UID:93a50b975ac0613d0f52794f517ed86d Tecnowebinars.com
X-MICROSOFT-CDO-BUSYSTATUS:BUSY
X-MICROSOFT-CDO-IMPORTANCE:1
X-MICROSOFT-DISALLOW-COUNTER:FALSE
X-MS-OLK-ALLOWEXTERNCHECK:TRUE
X-MS-OLK-AUTOFILLLOCATION:FALSE
X-MS-OLK-CONFTYPE:0
BEGIN:VALARM
TRIGGER:-PT1440M
ACTION:DISPLAY
DESCRIPTION:Reminder
END:VALARM
END:VEVENT
END:VCALENDAR
