BEGIN:VCALENDAR
PRODID:-//Microsoft Corporation//Outlook 12.0 MIMEDIR//EN
VERSION:2.0
METHOD:PUBLISH
X-MS-OLK-FORCEINSPECTOROPEN:TRUE
BEGIN:VEVENT
CLASS:PUBLIC
CREATED:20260419T143531Z
DESCRIPTION:Learn how to convert your data into disruptive power. Register for conXion 2020, the virtual event where you can learn from the companies that are taking the connected enterprise to the next level through:\n \nLive on-stage events, including Marc Randolph (Co-founder, Netflix) and Guy Kawasaki (tech evangelist)\nA future-forward showcase arena demonstrating the potential of a truly connected world\nCustomer use cases with stories of disruption across industries\nVirtual peer networking events to connect you with the professionals who can help you reach your goals \nProduct innovation sessions where we reveal our roadmaps for 2021 and beyond \nAn e-learning classroom available to conXion attendees for FREE\nComplete the form below to register. Be sure to select your time zone so that you can join the sessions most relevant to you - and during your working hours.\n
DTSTART:20201105T130000
DTEND:20201105T140000
DTSTAMP:20260419T143531Z
LOCATION:Online
PRIORITY:5
SEQUENCE:0
SUMMARY;LANGUAGE=es-es:Tecnowebinars.com - :: conXion 2020
TRANSP:OPAQUE
UID:592edad2f941785561b5ddf1a7cac9b2 Tecnowebinars.com
X-MICROSOFT-CDO-BUSYSTATUS:BUSY
X-MICROSOFT-CDO-IMPORTANCE:1
X-MICROSOFT-DISALLOW-COUNTER:FALSE
X-MS-OLK-ALLOWEXTERNCHECK:TRUE
X-MS-OLK-AUTOFILLLOCATION:FALSE
X-MS-OLK-CONFTYPE:0
BEGIN:VALARM
TRIGGER:-PT1440M
ACTION:DISPLAY
DESCRIPTION:Reminder
END:VALARM
END:VEVENT
END:VCALENDAR
