BEGIN:VCALENDAR
PRODID:-//Microsoft Corporation//Outlook 12.0 MIMEDIR//EN
VERSION:2.0
METHOD:PUBLISH
X-MS-OLK-FORCEINSPECTOROPEN:TRUE
BEGIN:VEVENT
CLASS:PUBLIC
CREATED:20260419T143815Z
DESCRIPTION:La inteligencia artificial (IA) es uno de los grandes retos a los que muchas organizaciones públicas y privadas se tienen que enfrentar para mantener la competitividad. Sacar verdadero valor a los datos utilizando la IA es un proceso que parece estar inequívocamente ligado a  la nube, pero esto no es del todo cierto, existen alternativas híbridas de pago por uso que te permitirán ir un paso más allá y ahorrar costes. \n \nHPE e INTEL  cuentan  con una dilatada experiencia en la implantación de AI y Computación de Alto Rendimiento (HPC) en numerosos clientes de todos los sectores e industrias gracias a nuestras infraestructuras de computación, almacenamiento, software específico y nuestros servicios que nos permiten modelar y desplegar rápidamente entornos flexibles. \nEn este evento virtual queremos mostrarte cómo podemos ayudarte a crear tu solución IA+HPC del futuro apoyada en nuevos modelos de pago por uso para convertir tus datos en una verdadera experiencia de Cloud Híbrida.\n
DTSTART:20201105T100000
DTEND:20201105T110000
DTSTAMP:20260419T143815Z
LOCATION:Online
PRIORITY:5
SEQUENCE:0
SUMMARY;LANGUAGE=es-es:Tecnowebinars.com - :: Convierte tus datos en una verdadera experiencia de Cloud Híbrida
TRANSP:OPAQUE
UID:2efc1140d5c51a39917c1742033e9d63 Tecnowebinars.com
X-MICROSOFT-CDO-BUSYSTATUS:BUSY
X-MICROSOFT-CDO-IMPORTANCE:1
X-MICROSOFT-DISALLOW-COUNTER:FALSE
X-MS-OLK-ALLOWEXTERNCHECK:TRUE
X-MS-OLK-AUTOFILLLOCATION:FALSE
X-MS-OLK-CONFTYPE:0
BEGIN:VALARM
TRIGGER:-PT1440M
ACTION:DISPLAY
DESCRIPTION:Reminder
END:VALARM
END:VEVENT
END:VCALENDAR
