BEGIN:VCALENDAR
PRODID:-//Microsoft Corporation//Outlook 12.0 MIMEDIR//EN
VERSION:2.0
METHOD:PUBLISH
X-MS-OLK-FORCEINSPECTOROPEN:TRUE
BEGIN:VEVENT
CLASS:PUBLIC
CREATED:20260419T143657Z
DESCRIPTION:VER VIDEO\nPoner en marcha procesos de validación de documentos SAP, o modificarlos, sin necesidad de ABAP, de manera independiente y muy rápidamente, sí que es posible con Compleo.\nOs voy a enseñar cómo crear procesos automáticos de validación de documentos provenientes directamente de SAP y adición de firma interna. \nAplica a todo tipo de documentos administrativos, comerciales, financieros tales como facturas, presupuestos, ordenes de pedido, ordenes de trabajo, albaranes, etc.\n \nTe invito a presenciar de mi próximo webinar, en donde veremos una demostración práctica de la solución conectada a SAP así como una presentación de los principios de parametrización del proceso de validación interna de documentos.\n \n
DTSTART:20201124T163000
DTEND:20201124T173000
DTSTAMP:20260419T143657Z
LOCATION:Online
PRIORITY:5
SEQUENCE:0
SUMMARY;LANGUAGE=es-es:Tecnowebinars.com - :: Circuitos de validación de documentos SAP con Compleo. Demo práctica.
TRANSP:OPAQUE
UID:d0ea0d77c845040a59950e0b54083516 Tecnowebinars.com
X-MICROSOFT-CDO-BUSYSTATUS:BUSY
X-MICROSOFT-CDO-IMPORTANCE:1
X-MICROSOFT-DISALLOW-COUNTER:FALSE
X-MS-OLK-ALLOWEXTERNCHECK:TRUE
X-MS-OLK-AUTOFILLLOCATION:FALSE
X-MS-OLK-CONFTYPE:0
BEGIN:VALARM
TRIGGER:-PT1440M
ACTION:DISPLAY
DESCRIPTION:Reminder
END:VALARM
END:VEVENT
END:VCALENDAR
