BEGIN:VCALENDAR
PRODID:-//Microsoft Corporation//Outlook 12.0 MIMEDIR//EN
VERSION:2.0
METHOD:PUBLISH
X-MS-OLK-FORCEINSPECTOROPEN:TRUE
BEGIN:VEVENT
CLASS:PUBLIC
CREATED:20260419T131551Z
DESCRIPTION:VER VIDEO\n \nSiemens Digital Industries ofrece una completa suite de herramientas para la digitalización del proceso de diseño y producción de la Industria de Procesos. \n \nDesde la gestión de las fórmulas hasta la simulación de la fabricación (Digital Twin), pasando por el cumplimiento de normativas, industrias como Alimentación y Bebidas o la cosmética, requieren hoy de herramientas sólidas para una digitalización con gatrantías.\n \nLa posibilidad de los equipos de I+D de experimentar virtualmente con nuevas recetas, packagings o sistemas de fabricación es también importante.\n \nEn este webinar dos expertos de Siemens Digital Industries España nos van a explicar varios casos prácticos de clientes en el campo de la Alimentación y Bebidas que ya están utilizando sus herramientas para optimizar el proceso de empaquetado de nuevos productos o simular la mejor forma de mezclar o batir bebidas en la planta de producción. \n
DTSTART:20201215T110000
DTEND:20201215T120000
DTSTAMP:20260419T131551Z
LOCATION:Online
PRIORITY:5
SEQUENCE:0
SUMMARY;LANGUAGE=es-es:Tecnowebinars.com - :: Digitalización y simulación en la Industria de Procesos: casos prácticos
TRANSP:OPAQUE
UID:ec0a1d3d23537cf631677124ad759cc6 Tecnowebinars.com
X-MICROSOFT-CDO-BUSYSTATUS:BUSY
X-MICROSOFT-CDO-IMPORTANCE:1
X-MICROSOFT-DISALLOW-COUNTER:FALSE
X-MS-OLK-ALLOWEXTERNCHECK:TRUE
X-MS-OLK-AUTOFILLLOCATION:FALSE
X-MS-OLK-CONFTYPE:0
BEGIN:VALARM
TRIGGER:-PT1440M
ACTION:DISPLAY
DESCRIPTION:Reminder
END:VALARM
END:VEVENT
END:VCALENDAR
