BEGIN:VCALENDAR
PRODID:-//Microsoft Corporation//Outlook 12.0 MIMEDIR//EN
VERSION:2.0
METHOD:PUBLISH
X-MS-OLK-FORCEINSPECTOROPEN:TRUE
BEGIN:VEVENT
CLASS:PUBLIC
CREATED:20260419T144806Z
DESCRIPTION:En las empresas el área económico-financiera se ha convertido en el centro neurálgico de la empresa. Ha pasado de registrar una contabilidad, a ser uno de los departamentos más importantes, donde se toman la mayor parte de las decisiones estratégicas, así como se recolecta información del resto de departamentos para comprobar, gestionar y corregir las desviaciones frente a sus presupuestos departamentales.\nEs el departamento que mantiene las relaciones con las entidades financieras y quien maneja nuestra tesorería, nuestro inmovilizado, controla amortizaciones, así como el resto de las acciones que tienen impacto económico. Para ello hay que analizar y tomar decisiones y hoy en día ya no se toman de forma intuitiva.\n \nActualmente, las empresas necesitan información y datos para adaptarse a los nuevos retos de sus áreas de negocio y mejorar continuamente sus procesos para ser más eficientes y mantener su estilo en cada sector.\n \nEs necesario disponer de una solución diseñada específicamente para el área y que garantice la mejora constante, el ahorro económico y en tiempo de todos tus procesos.\n \n¿Qué podrás ver en este webinar?\n \nEn cuanto a ahorro de tiempos:\n \n- Comparación de tus presupuestos previstos y reales\n- Alarmas para recibir avisos y tomar decisiones mejor fundamentadas\n- Diversas áreas de trabajo (escritorios) para tesorería, finanzas, etc.\n- Diferentes tipos de diálogos, con Hacienda, con el resto del sistema\n- Independencia para realizar nuevos reports, analizar información y tomar decisiones\n \nEn la parte económica:\n \n- Control y Gestión de la tesorería para minimizar la financiación externa\n- Minimizar el uso de documentación tradicional (papel) con la gestión documental integrada\n- Cómo aplicar cambios en los circuitos administrativos para mejorar el coste interno de cada proceso\n- A través de la movilidad, bajar los tiempos de validación de facturas, autorizaciones internas, etc.\n- Históricos completos que te permite replantear tus futuras acciones optimizando y mejorando tus costes, nuevos presupuestos y comportamientos\n- Cuadros de Control con Alarmas para el seguimiento económico.\n \nRegístrate ya en el webinar y descubre cómo mejorar tu excelencia operativa en el área financiera y sacarle el máximo partido. \n \n
DTSTART:20201118T110000
DTEND:20201118T114500
DTSTAMP:20260419T144806Z
LOCATION:Online
PRIORITY:5
SEQUENCE:0
SUMMARY;LANGUAGE=es-es:Tecnowebinars.com - :: Mejora tu excelencia operativa en el área financiera
TRANSP:OPAQUE
UID:172a19adede07bca419fffcccb0d8743 Tecnowebinars.com
X-MICROSOFT-CDO-BUSYSTATUS:BUSY
X-MICROSOFT-CDO-IMPORTANCE:1
X-MICROSOFT-DISALLOW-COUNTER:FALSE
X-MS-OLK-ALLOWEXTERNCHECK:TRUE
X-MS-OLK-AUTOFILLLOCATION:FALSE
X-MS-OLK-CONFTYPE:0
BEGIN:VALARM
TRIGGER:-PT1440M
ACTION:DISPLAY
DESCRIPTION:Reminder
END:VALARM
END:VEVENT
END:VCALENDAR
