BEGIN:VCALENDAR
PRODID:-//Microsoft Corporation//Outlook 12.0 MIMEDIR//EN
VERSION:2.0
METHOD:PUBLISH
X-MS-OLK-FORCEINSPECTOROPEN:TRUE
BEGIN:VEVENT
CLASS:PUBLIC
CREATED:20260419T131444Z
DESCRIPTION:Learn how API Management and cloud-based integration deliver smarter, scalable, easy-to-provision business apps & data.\nLow-Code Integration – Empower the Citizen Integrator \nSee how ‘drag-and-drop’ integration empowers self-service for the ‘citizen developer’ and helps experienced integrators deliver projects faster.\nHybrid Integration – Unlock Legacy Value for End-to-End Solutions \nFor many large enterprises, legacy apps and data remain the core of business value. Learn the proven mission-critical tools and techniques for connecting on-prem, cloud and mobile.\nRPA and Integration Automation - Bring Intelligence To Processes\nRobotic Process Automation allows F2000s to streamline complex processes and workflows. See how difficult legacy integration projects are now possible with RPA, AI and automation.\nSecurity as a Service – Integration Secures the Digital Enterprise \nAI and machine learning are changing cloud-based appdev, analytics, security. The distributed enterprise is stressing traditional security. Learn how top firms use integration for always-on, always updated security with authentication, visibility and control.\n
DTSTART:20201210T180000
DTEND:20201210T200000
DTSTAMP:20260419T131444Z
LOCATION:Online
PRIORITY:5
SEQUENCE:0
SUMMARY;LANGUAGE=es-es:Tecnowebinars.com - :: Enterprise Integration Summit
TRANSP:OPAQUE
UID:0022fb9b0143a48203e9c6e80353dfbe Tecnowebinars.com
X-MICROSOFT-CDO-BUSYSTATUS:BUSY
X-MICROSOFT-CDO-IMPORTANCE:1
X-MICROSOFT-DISALLOW-COUNTER:FALSE
X-MS-OLK-ALLOWEXTERNCHECK:TRUE
X-MS-OLK-AUTOFILLLOCATION:FALSE
X-MS-OLK-CONFTYPE:0
BEGIN:VALARM
TRIGGER:-PT1440M
ACTION:DISPLAY
DESCRIPTION:Reminder
END:VALARM
END:VEVENT
END:VCALENDAR
