BEGIN:VCALENDAR
PRODID:-//Microsoft Corporation//Outlook 12.0 MIMEDIR//EN
VERSION:2.0
METHOD:PUBLISH
X-MS-OLK-FORCEINSPECTOROPEN:TRUE
BEGIN:VEVENT
CLASS:PUBLIC
CREATED:20260419T143529Z
DESCRIPTION:Quieres saber cómo optimizar el uso de la herramienta Power BI con la plataforma Alteryx? ¡Es el momento!\nEste webinar, para analistas de todos los niveles, te mostrará las herramientas Alteryx que te permiten enviar tus datos directamente a la herramienta Power BI.\nEn este webinar aprenderás:\nCómo se complementan Alteryx y Power BI\nCómo buscar, preparar, fusionar y analizar tus datos en un flujo de trabajo repetible\nCómo proporcionar información empresarial más profunda en cuestión de horas.\nCrear un modelo analítico que puedas insertar directamente en Power BI Pro o Premium a través de nuestros conectores Power BI\nAdemás, contarás con un experto de Alteryx que te enseñará cómo combinar la belleza de la visualización de datos con la inteligencia de transformar sus datos.\n \n
DTSTART:20201110T103000
DTEND:20201110T110000
DTSTAMP:20260419T143529Z
LOCATION:Online
PRIORITY:5
SEQUENCE:0
SUMMARY;LANGUAGE=es-es:Tecnowebinars.com - :: Alteryx & Power Bi: La última pareja
TRANSP:OPAQUE
UID:6f26c3d9df78c6d9d60613fb8af8524c Tecnowebinars.com
X-MICROSOFT-CDO-BUSYSTATUS:BUSY
X-MICROSOFT-CDO-IMPORTANCE:1
X-MICROSOFT-DISALLOW-COUNTER:FALSE
X-MS-OLK-ALLOWEXTERNCHECK:TRUE
X-MS-OLK-AUTOFILLLOCATION:FALSE
X-MS-OLK-CONFTYPE:0
BEGIN:VALARM
TRIGGER:-PT1440M
ACTION:DISPLAY
DESCRIPTION:Reminder
END:VALARM
END:VEVENT
END:VCALENDAR
