BEGIN:VCALENDAR
PRODID:-//Microsoft Corporation//Outlook 12.0 MIMEDIR//EN
VERSION:2.0
METHOD:PUBLISH
X-MS-OLK-FORCEINSPECTOROPEN:TRUE
BEGIN:VEVENT
CLASS:PUBLIC
CREATED:20260419T144806Z
DESCRIPTION:Si ya conoces Alteryx, posiblemente estás más que familiarizado con sus ventajas como herramienta de ETL y para optimizar y acelerar los procesos de preparación, limpieza y combinación de datos pero\n¿te gustaría ir más allá? Alteryx tiene potentes pero sencillas de usar capacidades para realizar análisis predictivo.\n \nEn este webinar, utilizamos datos reales del INE sobre el número de hipotecas de viviendas en España y explicaremos como podemos utilizar dichas funcionalidades y los modelos predictivos de series temporales de Alteryx para tratar de predecir el número de hipotecas firmadas en meses futuros, así como ver la comparación de varios modelos predictivos.\n
DTSTART:20201105T170000
DTEND:20201105T173000
DTSTAMP:20260419T144806Z
LOCATION:Online
PRIORITY:5
SEQUENCE:0
SUMMARY;LANGUAGE=es-es:Tecnowebinars.com - :: Predicciones de series temporales con Alteryx: Prediciendo el número de hipotecas en España
TRANSP:OPAQUE
UID:476626222b56d5ac255db199ccc666d9 Tecnowebinars.com
X-MICROSOFT-CDO-BUSYSTATUS:BUSY
X-MICROSOFT-CDO-IMPORTANCE:1
X-MICROSOFT-DISALLOW-COUNTER:FALSE
X-MS-OLK-ALLOWEXTERNCHECK:TRUE
X-MS-OLK-AUTOFILLLOCATION:FALSE
X-MS-OLK-CONFTYPE:0
BEGIN:VALARM
TRIGGER:-PT1440M
ACTION:DISPLAY
DESCRIPTION:Reminder
END:VALARM
END:VEVENT
END:VCALENDAR
