BEGIN:VCALENDAR
PRODID:-//Microsoft Corporation//Outlook 12.0 MIMEDIR//EN
VERSION:2.0
METHOD:PUBLISH
X-MS-OLK-FORCEINSPECTOROPEN:TRUE
BEGIN:VEVENT
CLASS:PUBLIC
CREATED:20260419T143636Z
DESCRIPTION:En este curso podrás resolver tus dudas sobre aplicación del IVA, el IVA Intracomunitario, el Sistema Inmediato de Información y sus nuevas normas, así como toda la normativa referente a la facturación de las empresas. Imprescindible para estar al día en el IVA.\nPrograma resumido:\n \n1.     Novedades y cuestiones de interés sobre el IVA: \n- Últimas normativas aparecidas sobre IVA\n- Aclaración sobre exenciones.\n- Deducibilidad del IVA.\n- Normas de gestión del Impuesto.\n- Devoluciones de IVA.\n- Suministro Inmediato de Información (SII)\n    -  Qué tipo de empresas están obligadas a utilizarlo\n    -  Cómo funcionará este nuevo modelo de gestión del IVA.\n    -  Qué información deberemos remitir a la AEAT.\n    -  Plazos de suministro de información.\n    -  Respecto a la facturación e incumplimientos.\n    - Ventajas e inconvenientes del sistema SII\n    -  Cómo afectará el SII a algunos sectores económicos.\n    -  Información Técnica, últimas actualizaciones y Novedades del SII.\n- Preguntas y respuestas sobre dudas acerca del IVA.\n \n2.     Iva intracomunitario:\n- Operaciones Intracomunitarias:\n  - Entregas INTRACOMUNITARIAS\n  - Requisitos para la correcta distribución\n  - Referencias a las ventas a distancia\n  - Intrastat, ROÍ, VIES\n- Lugar de realización del hecho imponible:\n  - Establecimiento permanente\n  - Localización\n  - Inversión sujeto pasivo\n  - Liquidación de las operaciones\n  - Facturación y registro\n- Devoluciones relacionadas con el comercio exterior:\n  - Deducción del IVA.\n  - Recuperación del IVA soportado fuera de España\n  - Devoluciones en régimen de viajeros\n- Próximos cambios en el IVA intracomunitario.\n \n3.     Reglamento de Facturación y Factura Electrónica:\n- Normativa aplicable a las facturas y facturas electrónicas.\n- Obligaciones de expedir factura.\n- Contenido de las facturas.\n- Contenido de las facturas simplificadas.\n- Requisitos complementarios de las facturas.\n- Remisión y conservación de las facturas.\n- Características generales de la facturación electrónica.\n- Expedición de la facturación electrónica.\n- Requisitos de las facturas electrónicas a la administración, a otras empresas y a consumidores.\n- Características técnicas de la expedición de facturas electrónicas y facilidades de la administración para realizarlo.\n
DTSTART:20201117T090000
DTEND:20201117T140000
DTSTAMP:20260419T143636Z
LOCATION:Online
PRIORITY:5
SEQUENCE:0
SUMMARY;LANGUAGE=es-es:Tecnowebinars.com - :: Curso de Actualización en IVA
TRANSP:OPAQUE
UID:5565cb5ef44a2d3bbefacd541f59c279 Tecnowebinars.com
X-MICROSOFT-CDO-BUSYSTATUS:BUSY
X-MICROSOFT-CDO-IMPORTANCE:1
X-MICROSOFT-DISALLOW-COUNTER:FALSE
X-MS-OLK-ALLOWEXTERNCHECK:TRUE
X-MS-OLK-AUTOFILLLOCATION:FALSE
X-MS-OLK-CONFTYPE:0
BEGIN:VALARM
TRIGGER:-PT1440M
ACTION:DISPLAY
DESCRIPTION:Reminder
END:VALARM
END:VEVENT
END:VCALENDAR
