BEGIN:VCALENDAR
PRODID:-//Microsoft Corporation//Outlook 12.0 MIMEDIR//EN
VERSION:2.0
METHOD:PUBLISH
X-MS-OLK-FORCEINSPECTOROPEN:TRUE
BEGIN:VEVENT
CLASS:PUBLIC
CREATED:20260419T131428Z
DESCRIPTION:Agenda día 2:\n09:00 EST Strategies to Achieve Better Financial Productivity and Performance Across Your Organization\n10:00 EST  Thoughtful Workforce Planning and Effective Communication is the Key\nHighlighting the importance of creating a human-resources and placement capability that works in lockstep with the CFO and the finance function\n11:00 EST  Adopting Different Automation Approaches for Different Finance Functions\n12:00 EST  Using Automation to Position Your Company to Thrive\n \nThe global pandemic has meant that automating financial processes has now become a necessity. Remote work, the need to reduce costs and respond quickly to market shifts have all heightened the importance of automated processes to enhance the agility and efficiency of finance operations.\n \nWith that in mind, Finance Process Automation 2020 will be focused on:\n- Identifying which processes to automate if you are at the beginning of your automation journey\n- Assessing the relative merits of an end to end vs. point solutions for automating your finance function\n- Leveraging tools such as RPA and Workflow Automation to enhance the integration of your finance processes, and reduce the burden of high volume, low value transactions\n \n- Understanding how to utilize Process Mining to identify inefficient processes within your finance department\n
DTSTART:20201209T140000
DTEND:20201209T170000
DTSTAMP:20260419T131428Z
LOCATION:Online
PRIORITY:5
SEQUENCE:0
SUMMARY;LANGUAGE=es-es:Tecnowebinars.com - :: Finance Process Automation 2020. Día 2
TRANSP:OPAQUE
UID:2ae45a3e2982c820d465c839ca001203 Tecnowebinars.com
X-MICROSOFT-CDO-BUSYSTATUS:BUSY
X-MICROSOFT-CDO-IMPORTANCE:1
X-MICROSOFT-DISALLOW-COUNTER:FALSE
X-MS-OLK-ALLOWEXTERNCHECK:TRUE
X-MS-OLK-AUTOFILLLOCATION:FALSE
X-MS-OLK-CONFTYPE:0
BEGIN:VALARM
TRIGGER:-PT1440M
ACTION:DISPLAY
DESCRIPTION:Reminder
END:VALARM
END:VEVENT
END:VCALENDAR
