BEGIN:VCALENDAR
PRODID:-//Microsoft Corporation//Outlook 12.0 MIMEDIR//EN
VERSION:2.0
METHOD:PUBLISH
X-MS-OLK-FORCEINSPECTOROPEN:TRUE
BEGIN:VEVENT
CLASS:PUBLIC
CREATED:20260419T131550Z
DESCRIPTION:The global pandemic has meant that automating financial processes has now become a necessity. Remote work, the need to reduce costs and respond quickly to market shifts have all heightened the importance of automated processes to enhance the agility and efficiency of finance operations.\nWith that in mind, Finance Process Automation 2020 will be focused on:\n- Identifying which processes to automate if you are at the beginning of your automation journey\n- Assessing the relative merits of an end to end vs. point solutions for automating your finance function\n- Leveraging tools such as RPA and Workflow Automation to enhance the integration of your finance processes, and reduce the burden of high volume, low value transactions\n- Understanding how to utilize Process Mining to identify inefficient processes within your finance department\n \nAgenda día 1:\n9:00 EST   Optimising Financial Operational Efficiency Through Intelligent Automation\n10:00 EST  Potential Cost Savings From Moving Financial Processes from Outsourcing to Automation\n11:00 EST  Managing Change: Establishing What to Automate When\n12:00 EST  Case Study: Implementing Automation Effectively in a Time of Covid\n
DTSTART:20201208T140000
DTEND:20201208T170000
DTSTAMP:20260419T131550Z
LOCATION:Online
PRIORITY:5
SEQUENCE:0
SUMMARY;LANGUAGE=es-es:Tecnowebinars.com - :: Finance Process Automation 2020. Día 1
TRANSP:OPAQUE
UID:82d663e44e171628f60c76b424e26e37 Tecnowebinars.com
X-MICROSOFT-CDO-BUSYSTATUS:BUSY
X-MICROSOFT-CDO-IMPORTANCE:1
X-MICROSOFT-DISALLOW-COUNTER:FALSE
X-MS-OLK-ALLOWEXTERNCHECK:TRUE
X-MS-OLK-AUTOFILLLOCATION:FALSE
X-MS-OLK-CONFTYPE:0
BEGIN:VALARM
TRIGGER:-PT1440M
ACTION:DISPLAY
DESCRIPTION:Reminder
END:VALARM
END:VEVENT
END:VCALENDAR
