BEGIN:VCALENDAR
PRODID:-//Microsoft Corporation//Outlook 12.0 MIMEDIR//EN
VERSION:2.0
METHOD:PUBLISH
X-MS-OLK-FORCEINSPECTOROPEN:TRUE
BEGIN:VEVENT
CLASS:PUBLIC
CREATED:20260419T143657Z
DESCRIPTION:Electromagnetic sensors are used in many applications, including position and current sensing. This webinar showcases Ansys Maxwell's capabilities for sensing applications and demonstrates the Ansys advantage for simulating sensor performance.\n \n
DTSTART:20201029T170000
DTEND:20201029T180000
DTSTAMP:20260419T143657Z
LOCATION:Online
PRIORITY:5
SEQUENCE:0
SUMMARY;LANGUAGE=es-es:Tecnowebinars.com - :: Simulation of Magnetic Sensors with Ansys Maxwell
TRANSP:OPAQUE
UID:c500c8df62b29d50f8556422898c6957 Tecnowebinars.com
X-MICROSOFT-CDO-BUSYSTATUS:BUSY
X-MICROSOFT-CDO-IMPORTANCE:1
X-MICROSOFT-DISALLOW-COUNTER:FALSE
X-MS-OLK-ALLOWEXTERNCHECK:TRUE
X-MS-OLK-AUTOFILLLOCATION:FALSE
X-MS-OLK-CONFTYPE:0
BEGIN:VALARM
TRIGGER:-PT1440M
ACTION:DISPLAY
DESCRIPTION:Reminder
END:VALARM
END:VEVENT
END:VCALENDAR
