BEGIN:VCALENDAR
PRODID:-//Microsoft Corporation//Outlook 12.0 MIMEDIR//EN
VERSION:2.0
METHOD:PUBLISH
X-MS-OLK-FORCEINSPECTOROPEN:TRUE
BEGIN:VEVENT
CLASS:PUBLIC
CREATED:20260419T144800Z
DESCRIPTION:From power line inspection to construction site monitoring, drone operations are increasing safety, improving efficiency and saving companies money. Join experts and end users from the energy, utilities and construction sectors as they discuss how drones are impacting their businesses, how they have scaled their programs and tips from the lessons they have learned through the process.\nSpeakers:\nDavid Gallagher – Flight Operations Manager, Ohio UAS Center\nPaul Wheeler – UAS/AAM Program Manager, Utah Division of Aeronautics\nWilliam Wheeler – UAS Operations Manager, Phoenix Air Unmanned, LLC\n
DTSTART:20201028T200000
DTEND:20201028T210000
DTSTAMP:20260419T144800Z
LOCATION:Online
PRIORITY:5
SEQUENCE:0
SUMMARY;LANGUAGE=es-es:Tecnowebinars.com - :: Drones para inspección, vigilancia o mapeo (Casos y experiencias)
TRANSP:OPAQUE
UID:8311f6027de19e7d419e01f8c4a4710b Tecnowebinars.com
X-MICROSOFT-CDO-BUSYSTATUS:BUSY
X-MICROSOFT-CDO-IMPORTANCE:1
X-MICROSOFT-DISALLOW-COUNTER:FALSE
X-MS-OLK-ALLOWEXTERNCHECK:TRUE
X-MS-OLK-AUTOFILLLOCATION:FALSE
X-MS-OLK-CONFTYPE:0
BEGIN:VALARM
TRIGGER:-PT1440M
ACTION:DISPLAY
DESCRIPTION:Reminder
END:VALARM
END:VEVENT
END:VCALENDAR
