BEGIN:VCALENDAR
PRODID:-//Microsoft Corporation//Outlook 12.0 MIMEDIR//EN
VERSION:2.0
METHOD:PUBLISH
X-MS-OLK-FORCEINSPECTOROPEN:TRUE
BEGIN:VEVENT
CLASS:PUBLIC
CREATED:20260419T143611Z
DESCRIPTION:Miles de analistas confían en Tableau para el análisis visual y exploración de los datos. Estos mismos analistas confían en Alteryx para la limpieza y organización compleja y masiva de datos, la automatización de dichos procesos y los procesos de ciencia de datos para ayudarles a preguntar y responder a preguntas que no eran posibles de responder hasta ahora.\nEn el webinar, veremos como Alteryx y Tableau ayudan a:\n \nSimplificar la conexión a los datos y complejos procesos de preparación de datos para su visualización.\n \nObtener insights de forma rápida con datos desagregados.\n \nAhorrar tiempo y recursos automatizando procesos.\n \nTransformar empresas a través del uso de self-service analytics y facilitando el uso de técnicas avanzadas (predicciones, algoritmos, etc).\n \nFacilitar el proceso de conversión a una empresa basada en datos con plataformas de analítica avanzada, fáciles de usar y de aprender.\n
DTSTART:20201027T100000
DTEND:20201027T103000
DTSTAMP:20260419T143611Z
LOCATION:Online
PRIORITY:5
SEQUENCE:0
SUMMARY;LANGUAGE=es-es:Tecnowebinars.com - :: Alteryx Apa + Tableau: Bigger + Better
TRANSP:OPAQUE
UID:efd37c8175287fcf371b3d99dde5bff8 Tecnowebinars.com
X-MICROSOFT-CDO-BUSYSTATUS:BUSY
X-MICROSOFT-CDO-IMPORTANCE:1
X-MICROSOFT-DISALLOW-COUNTER:FALSE
X-MS-OLK-ALLOWEXTERNCHECK:TRUE
X-MS-OLK-AUTOFILLLOCATION:FALSE
X-MS-OLK-CONFTYPE:0
BEGIN:VALARM
TRIGGER:-PT1440M
ACTION:DISPLAY
DESCRIPTION:Reminder
END:VALARM
END:VEVENT
END:VCALENDAR
