BEGIN:VCALENDAR
PRODID:-//Microsoft Corporation//Outlook 12.0 MIMEDIR//EN
VERSION:2.0
METHOD:PUBLISH
X-MS-OLK-FORCEINSPECTOROPEN:TRUE
BEGIN:VEVENT
CLASS:PUBLIC
CREATED:20260419T143815Z
DESCRIPTION:Learn how to use Ansys Fluent to simulate the noise produced by a generic four-bladed quadcopter drone. Discover how sound analysis tools from Ansys VRXPERIENCE SOUND can be applied to the acoustic results to help assess psychoacoustic parameters associated with the perceived sounds.\n
DTSTART:20201028T160000
DTEND:20201028T170000
DTSTAMP:20260419T143815Z
LOCATION:Online
PRIORITY:5
SEQUENCE:0
SUMMARY;LANGUAGE=es-es:Tecnowebinars.com - :: Analyzing Quadcopter Drone Propeller Noise Using Ansys CFD
TRANSP:OPAQUE
UID:39018767f8b711322ecf1f9c3344aa6c Tecnowebinars.com
X-MICROSOFT-CDO-BUSYSTATUS:BUSY
X-MICROSOFT-CDO-IMPORTANCE:1
X-MICROSOFT-DISALLOW-COUNTER:FALSE
X-MS-OLK-ALLOWEXTERNCHECK:TRUE
X-MS-OLK-AUTOFILLLOCATION:FALSE
X-MS-OLK-CONFTYPE:0
BEGIN:VALARM
TRIGGER:-PT1440M
ACTION:DISPLAY
DESCRIPTION:Reminder
END:VALARM
END:VEVENT
END:VCALENDAR
