BEGIN:VCALENDAR
PRODID:-//Microsoft Corporation//Outlook 12.0 MIMEDIR//EN
VERSION:2.0
METHOD:PUBLISH
X-MS-OLK-FORCEINSPECTOROPEN:TRUE
BEGIN:VEVENT
CLASS:PUBLIC
CREATED:20260419T143530Z
DESCRIPTION:Learn how to combine ECAD layout designs and add mechanical CAD connectors or 3D component models in Ansys HFSS 3D Layout to accurately extract complex interconnect systems with 3D electromagnetic field simulation.  \n \n
DTSTART:20201027T110000
DTEND:20201027T120000
DTSTAMP:20260419T143530Z
LOCATION:Online
PRIORITY:5
SEQUENCE:0
SUMMARY;LANGUAGE=es-es:Tecnowebinars.com - :: Exploring Ansys HFSS 3D Layout-Driven Assembly
TRANSP:OPAQUE
UID:f2fad45c8d6c0f1232a131954f80ca62 Tecnowebinars.com
X-MICROSOFT-CDO-BUSYSTATUS:BUSY
X-MICROSOFT-CDO-IMPORTANCE:1
X-MICROSOFT-DISALLOW-COUNTER:FALSE
X-MS-OLK-ALLOWEXTERNCHECK:TRUE
X-MS-OLK-AUTOFILLLOCATION:FALSE
X-MS-OLK-CONFTYPE:0
BEGIN:VALARM
TRIGGER:-PT1440M
ACTION:DISPLAY
DESCRIPTION:Reminder
END:VALARM
END:VEVENT
END:VCALENDAR
