BEGIN:VCALENDAR
PRODID:-//Microsoft Corporation//Outlook 12.0 MIMEDIR//EN
VERSION:2.0
METHOD:PUBLISH
X-MS-OLK-FORCEINSPECTOROPEN:TRUE
BEGIN:VEVENT
CLASS:PUBLIC
CREATED:20260419T143529Z
DESCRIPTION:Our virtual exhibition hall to network with other delegates from across the world and find solutions to your most pressing challenges\nAsk your questions directly to our expert speakers through our chat function\nCreate new contacts and chat live to our sponsors\nKey sessions:\nOur unique agenda will bring you case studies and live debates on topics including:\nPanel discussion on the 5G evolution and perspective on 6G with Gint Atkinson, VP Network Strategy and Architecture, SES Satellites: Eric Hardouin, Vice President, Orange Labs; Volker Ziegler, 6G Leadership, Nokia Bell Labs and Graham Wheeler, President, General Manager, HTC EMEA\nDebate about technological development for the future of the automotive sector and connected mobility moderated by Maxime Flament, Chief Technology Officer, 5G Automotive Association (5GAA) with Hans Adlkofer, Vice President Systems Group of Infineon Technologies; Hans Stork, Senior Vice President and CTO of ON Semiconductor; James Misener, Senior Director from Qualcomm; Sebastian Wong, Executive Director, in-tech Automotive Engineering and Dr. Sebastian Mair, COO Automotive Global, in-tech GmbH\nBig data analytics development in semiconductor manufacturing discussion with Balachandran Rajendran, Global CTO, EDA and Semiconductor, Dell Technologies; Gunaseelan Ponnuvel, Director of Product Engineering, Nvidia; Raghu Nambiar, Corporate Vice President, AMD chaired by David Bicknell, Principal Analyst, Thematic Research, GlobalData\nKeynotes and case studies from Ramin Farjad, Marvell Semiconductor; Dr. Michael Pate of Google Mobile Products; Hans Stork, ON Semiconductor; Ruurd Boomsma, CTO, Besi; Franz Vollmann, Global Head of Printed Electronics of Heraeus; Lars Reger, Executive Vice President and CTO, NXP Semiconductors\n
DTSTART:20201029T110000
DTEND:20201029T200000
DTSTAMP:20260419T143529Z
LOCATION:Online
PRIORITY:5
SEQUENCE:0
SUMMARY;LANGUAGE=es-es:Tecnowebinars.com - :: Global Semiconductor and Electronics Forum
TRANSP:OPAQUE
UID:d152bf1c39732bd6b01d5e243e197d23 Tecnowebinars.com
X-MICROSOFT-CDO-BUSYSTATUS:BUSY
X-MICROSOFT-CDO-IMPORTANCE:1
X-MICROSOFT-DISALLOW-COUNTER:FALSE
X-MS-OLK-ALLOWEXTERNCHECK:TRUE
X-MS-OLK-AUTOFILLLOCATION:FALSE
X-MS-OLK-CONFTYPE:0
BEGIN:VALARM
TRIGGER:-PT1440M
ACTION:DISPLAY
DESCRIPTION:Reminder
END:VALARM
END:VEVENT
END:VCALENDAR
