BEGIN:VCALENDAR
PRODID:-//Microsoft Corporation//Outlook 12.0 MIMEDIR//EN
VERSION:2.0
METHOD:PUBLISH
X-MS-OLK-FORCEINSPECTOROPEN:TRUE
BEGIN:VEVENT
CLASS:PUBLIC
CREATED:20260419T143636Z
DESCRIPTION:Data Revolution Virtual Summit es un evento para escuchar a los líderes de la industria, a expertos del mundo de los datos y a los ejecutivos de Qlik, que abordarán las cuestiones fundamentales hoy en día en los datos.\nPonentes como: Jesús María Rubio, Customer Service Director en Telxius Cable; Elena Nasarre, Sales Manager Consumer Health y Gloria Aguilar, BI Manager en Ferrer; Albert Gils, Director Financiero en Grupo Premo; Ferran González, Director de Posventa y BI en Smeg; José Catalá, Director de IT/IS en Securitas Seguridad y Alberto Martín, Arquitecto Empresarial en Sanitas. Además, el CEO de Qlik, Mike Capone, James Fisher, Chief Product Officer y otros ejecutivos de la compañía abordarán por qué la nueva normalidad requiere un nuevo BI. Y contaremos además con la invitada especial, la Dra Hannah Fry, autora de best selllers y locutora.\n \n¿Por qué registrarte? descubrirás:\n \nTendencias principales de datos y analítica en la nueva normalidad.\nAceleración de los cambios digitales y los efectos de la COVID.\nNuevas maneras en que los datos y la analítica impulsan el valor en el panorama actual.\nCómo consiguen las empresas un ROI mayor y más rápido gracias a los datos.\nInteligencia activa: qué es y cómo lograrla con Qlik.\n \n
DTSTART:20201028T100000
DTEND:20201028T150000
DTSTAMP:20260419T143636Z
LOCATION:Online
PRIORITY:5
SEQUENCE:0
SUMMARY;LANGUAGE=es-es:Tecnowebinars.com - :: Data Revolution Virtual Summit
TRANSP:OPAQUE
UID:50fc739f1490182a8265caaddb307d5a Tecnowebinars.com
X-MICROSOFT-CDO-BUSYSTATUS:BUSY
X-MICROSOFT-CDO-IMPORTANCE:1
X-MICROSOFT-DISALLOW-COUNTER:FALSE
X-MS-OLK-ALLOWEXTERNCHECK:TRUE
X-MS-OLK-AUTOFILLLOCATION:FALSE
X-MS-OLK-CONFTYPE:0
BEGIN:VALARM
TRIGGER:-PT1440M
ACTION:DISPLAY
DESCRIPTION:Reminder
END:VALARM
END:VEVENT
END:VCALENDAR
