BEGIN:VCALENDAR
PRODID:-//Microsoft Corporation//Outlook 12.0 MIMEDIR//EN
VERSION:2.0
METHOD:PUBLISH
X-MS-OLK-FORCEINSPECTOROPEN:TRUE
BEGIN:VEVENT
CLASS:PUBLIC
CREATED:20260419T143822Z
DESCRIPTION:Business value is in the eye of the beholder. With many opportunities to qualify what business value means to your business, how do you build the right strategy to not only quantify it, but also articulate it to the right stakeholders? \nDuring this live webinar, Snowflake will be joined by our guests, Forrester research leaders, to discuss recent trends in data management and share a comprehensive overview of Forrester Consulting’s Total Economic Impact study, commissioned by Snowflake, which reveals how Snowflake customers realised more than a 600% return on investment from making the shift to Snowflake’s cloud data platform.\n \nAttend this session to explore: \n \nForrester’s analysis of Snowflake’s cost of ownership and return on investment\nRecent trends driving the adoption of cloud data platforms\nHow to drive quantifiable business results\nHow to build a successful data strategy for identifying and accelerating business impact\n \nSpeakers:\nGENE LEGANZA\nVP, Research Director, Forrester\nKATHLEEN BYRNE\nPrincipal Consultant, Forrester\nCLARKE PATTERSON\nHead of Product Marketing, Snowflake\n
DTSTART:20201029T140000
DTEND:20201029T150000
DTSTAMP:20260419T143822Z
LOCATION:Online
PRIORITY:5
SEQUENCE:0
SUMMARY;LANGUAGE=es-es:Tecnowebinars.com - :: Realising The Value From A Cloud Data Platform, Featuring Forrester Analysts
TRANSP:OPAQUE
UID:2793f0bbaad272c63882accbe94e30c3 Tecnowebinars.com
X-MICROSOFT-CDO-BUSYSTATUS:BUSY
X-MICROSOFT-CDO-IMPORTANCE:1
X-MICROSOFT-DISALLOW-COUNTER:FALSE
X-MS-OLK-ALLOWEXTERNCHECK:TRUE
X-MS-OLK-AUTOFILLLOCATION:FALSE
X-MS-OLK-CONFTYPE:0
BEGIN:VALARM
TRIGGER:-PT1440M
ACTION:DISPLAY
DESCRIPTION:Reminder
END:VALARM
END:VEVENT
END:VCALENDAR
