BEGIN:VCALENDAR
PRODID:-//Microsoft Corporation//Outlook 12.0 MIMEDIR//EN
VERSION:2.0
METHOD:PUBLISH
X-MS-OLK-FORCEINSPECTOROPEN:TRUE
BEGIN:VEVENT
CLASS:PUBLIC
CREATED:20260419T143529Z
DESCRIPTION:En estos tiempos sin precedentes, la tecnología adquiere gran protagonismo. Si quieres conocer de primera mano cómo se ha acelerado la transformación digital de grandes empresas y cómo la tecnología Open de Red Hat ha ayudado a ello, no faltes al encuentro Red Hat Forum 2020. \nAgenda:\n09:30 - 10:00 CET\nBienvenida e introducción\nMartin Häring,Vice President Marketing EMEA, Red Hat\nKeynote: Preparing for an innovative future with open hybrid cloud\nWerner Knoblich,Senior Vice President & General Manager EMEA, Red Hat\n10:00 - 10:30 CET\nKeynote: Building a flexible future with Red Hat\nMichel Isnard,Vice President Sales EMEA, Red Hat\n10:30 - 11:00 CET\nLive demo interactiva de tecnologías Red Hat\nGraeme Colman,UKI Domain Solution Architect & Developer Advocacy Lead, Red Hat\nSesiones de España y Portugal\n11:00 - 11:30 CET\nBienvenida e Introducción - Keynote España y Portugal\nJulia Bernal,Country Manager de España y Portugal, Red Hat\nCristina Álvarez Álvarez,Group Executive Vice President – Global CTO, Santander Group\nMarian Illera,Directora de Transformación y Tecnología, Seur\nFernando Lucero,CIO Global, Iberdrola\n11:30 - 13:00 CET\nOPEN HYBRID CLOUD\nIT OPTIMIZATION AND AUTOMATION\n13:00 - 13:30 CET\nNetworking break\n13:30 - 14:30 CET\nOPEN HYBRID CLOUD\nIT OPTIMIZATION AND AUTOMATION\n14:30 - 15:00 CET\nAutoscaling Hybrid Cloud: pasa al siguiente nivel. Álex Soto,Director of Developer Experience, Red Hat\n
DTSTART:20201103T093000
DTEND:20201103T150000
DTSTAMP:20260419T143529Z
LOCATION:Online
PRIORITY:5
SEQUENCE:0
SUMMARY;LANGUAGE=es-es:Tecnowebinars.com - :: Red Hat Forum 2020
TRANSP:OPAQUE
UID:c18fa8ff8b2e40bb23f974a7bbee3d98 Tecnowebinars.com
X-MICROSOFT-CDO-BUSYSTATUS:BUSY
X-MICROSOFT-CDO-IMPORTANCE:1
X-MICROSOFT-DISALLOW-COUNTER:FALSE
X-MS-OLK-ALLOWEXTERNCHECK:TRUE
X-MS-OLK-AUTOFILLLOCATION:FALSE
X-MS-OLK-CONFTYPE:0
BEGIN:VALARM
TRIGGER:-PT1440M
ACTION:DISPLAY
DESCRIPTION:Reminder
END:VALARM
END:VEVENT
END:VCALENDAR
