BEGIN:VCALENDAR
PRODID:-//Microsoft Corporation//Outlook 12.0 MIMEDIR//EN
VERSION:2.0
METHOD:PUBLISH
X-MS-OLK-FORCEINSPECTOROPEN:TRUE
BEGIN:VEVENT
CLASS:PUBLIC
CREATED:20260419T144859Z
DESCRIPTION:Recent research with Oil and Gas Journal reveals that Eighty-six percent of responding companies experienced one or more types of cybersecurity incidents in the past 12 months. More than 50% believe cyberattacks will become increasingly sophisticated and companies will implement new solutions to address the risks. From drilling sites to pipelines to refineries, securing the oil and gas value chain is a top priority and a challenging initiative.  You’re invited to listen in to our webinar as we explore the cybersecurity priorities and concerns expressed by sector respondents. \nDuring our 45-minute webinar, we will discuss cybersecurity threats, expected near-term focus on operational technology (OT) security, eliminating barriers to effective response management and best practices for securing mission-critical controls in the OT environment. \n \nPRESENTERS:\nEd Turkaly, Global Cybersecurity Solution Architect - Nexus Controls a Baker Hughes Company\nRick Peters, CISO, Operational Technology N. America - Fortinet\n
DTSTART:20201027T190000
DTEND:20201027T200000
DTSTAMP:20260419T144859Z
LOCATION:Online
PRIORITY:5
SEQUENCE:0
SUMMARY;LANGUAGE=es-es:Tecnowebinars.com - :: Protecting Mission-Critical Controls in a Digital World: Securing Oil & Gas Operations
TRANSP:OPAQUE
UID:b2d54e6e5a2003fc337938c5f2e02c27 Tecnowebinars.com
X-MICROSOFT-CDO-BUSYSTATUS:BUSY
X-MICROSOFT-CDO-IMPORTANCE:1
X-MICROSOFT-DISALLOW-COUNTER:FALSE
X-MS-OLK-ALLOWEXTERNCHECK:TRUE
X-MS-OLK-AUTOFILLLOCATION:FALSE
X-MS-OLK-CONFTYPE:0
BEGIN:VALARM
TRIGGER:-PT1440M
ACTION:DISPLAY
DESCRIPTION:Reminder
END:VALARM
END:VEVENT
END:VCALENDAR
