BEGIN:VCALENDAR
PRODID:-//Microsoft Corporation//Outlook 12.0 MIMEDIR//EN
VERSION:2.0
METHOD:PUBLISH
X-MS-OLK-FORCEINSPECTOROPEN:TRUE
BEGIN:VEVENT
CLASS:PUBLIC
CREATED:20260419T161300Z
DESCRIPTION:Learn how to reduce EMI/EMC test cycles using Ansys Electromagnetic simulation technologies. Find out about EMI wizard, a rules-based design checker built in to Ansys SIwave; a new cable modeling tool for cable emissions; and a template for CISPR25, RadHaz and BCI tests.\n
DTSTART:20201022T190000
DTEND:20201022T200000
DTSTAMP:20260419T161300Z
LOCATION:Online
PRIORITY:5
SEQUENCE:0
SUMMARY;LANGUAGE=es-es:Tecnowebinars.com - :: New, Powerful Ansys Electromagnetic Capabilities for EMI/EMC Simulations
TRANSP:OPAQUE
UID:54c30d5473bb76bad1c83b64fd51a008 Tecnowebinars.com
X-MICROSOFT-CDO-BUSYSTATUS:BUSY
X-MICROSOFT-CDO-IMPORTANCE:1
X-MICROSOFT-DISALLOW-COUNTER:FALSE
X-MS-OLK-ALLOWEXTERNCHECK:TRUE
X-MS-OLK-AUTOFILLLOCATION:FALSE
X-MS-OLK-CONFTYPE:0
BEGIN:VALARM
TRIGGER:-PT1440M
ACTION:DISPLAY
DESCRIPTION:Reminder
END:VALARM
END:VEVENT
END:VCALENDAR
