BEGIN:VCALENDAR
PRODID:-//Microsoft Corporation//Outlook 12.0 MIMEDIR//EN
VERSION:2.0
METHOD:PUBLISH
X-MS-OLK-FORCEINSPECTOROPEN:TRUE
BEGIN:VEVENT
CLASS:PUBLIC
CREATED:20260419T160324Z
DESCRIPTION:Learn how coupled CFD-optical simulations can address weather challenges by developing weather-aware solutions including designing and optimizing sensors, strategically placing sensors on a vehicle, designing a sensor cleaning system and developing perception algorithms.\n
DTSTART:20201022T180000
DTEND:20201022T190000
DTSTAMP:20260419T160324Z
LOCATION:Online
PRIORITY:5
SEQUENCE:0
SUMMARY;LANGUAGE=es-es:Tecnowebinars.com - :: Evaluating Weather Impact on Sensor Performance by Combining Ansys Solutions
TRANSP:OPAQUE
UID:b6398bffbf6b14def11a50e3580ec0a1 Tecnowebinars.com
X-MICROSOFT-CDO-BUSYSTATUS:BUSY
X-MICROSOFT-CDO-IMPORTANCE:1
X-MICROSOFT-DISALLOW-COUNTER:FALSE
X-MS-OLK-ALLOWEXTERNCHECK:TRUE
X-MS-OLK-AUTOFILLLOCATION:FALSE
X-MS-OLK-CONFTYPE:0
BEGIN:VALARM
TRIGGER:-PT1440M
ACTION:DISPLAY
DESCRIPTION:Reminder
END:VALARM
END:VEVENT
END:VCALENDAR
