BEGIN:VCALENDAR
PRODID:-//Microsoft Corporation//Outlook 12.0 MIMEDIR//EN
VERSION:2.0
METHOD:PUBLISH
X-MS-OLK-FORCEINSPECTOROPEN:TRUE
BEGIN:VEVENT
CLASS:PUBLIC
CREATED:20260419T160324Z
DESCRIPTION:Learn about the latest additions to our signal and power integrity solutions, such as the EMI scanner, the EMI Xplorer, the Crosstalk Scanner and the PI advisor. Discover how HFSS Regions in SIwave provides for rapid verification and signoff on your SI or PI designs.\n
DTSTART:20201021T150000
DTEND:20201021T160000
DTSTAMP:20260419T160324Z
LOCATION:Online
PRIORITY:5
SEQUENCE:0
SUMMARY;LANGUAGE=es-es:Tecnowebinars.com - :: Optimizing 10 Gbps+ Serial Channel Performance Using New Ansys SIwave Features
TRANSP:OPAQUE
UID:f561d62acf5ab158342725af8d8a1264 Tecnowebinars.com
X-MICROSOFT-CDO-BUSYSTATUS:BUSY
X-MICROSOFT-CDO-IMPORTANCE:1
X-MICROSOFT-DISALLOW-COUNTER:FALSE
X-MS-OLK-ALLOWEXTERNCHECK:TRUE
X-MS-OLK-AUTOFILLLOCATION:FALSE
X-MS-OLK-CONFTYPE:0
BEGIN:VALARM
TRIGGER:-PT1440M
ACTION:DISPLAY
DESCRIPTION:Reminder
END:VALARM
END:VEVENT
END:VCALENDAR
