BEGIN:VCALENDAR
PRODID:-//Microsoft Corporation//Outlook 12.0 MIMEDIR//EN
VERSION:2.0
METHOD:PUBLISH
X-MS-OLK-FORCEINSPECTOROPEN:TRUE
BEGIN:VEVENT
CLASS:PUBLIC
CREATED:20260419T155146Z
DESCRIPTION:This webinar showcases Ansys Mechanical's core competencies. Discover the Ansys topology optimization portfolio: SIMP, LevelSet and Lattice. Learn how to set up a problem, define objectives and constraints and solve the problem. Understand how to process optimized geometry and perform design validation.\n
DTSTART:20201021T080000
DTEND:20201021T090000
DTSTAMP:20260419T155146Z
LOCATION:Online
PRIORITY:5
SEQUENCE:0
SUMMARY;LANGUAGE=es-es:Tecnowebinars.com - :: Topology Optimization using Ansys Mechanical
TRANSP:OPAQUE
UID:8dcf0874da714f83c1605886856c685e Tecnowebinars.com
X-MICROSOFT-CDO-BUSYSTATUS:BUSY
X-MICROSOFT-CDO-IMPORTANCE:1
X-MICROSOFT-DISALLOW-COUNTER:FALSE
X-MS-OLK-ALLOWEXTERNCHECK:TRUE
X-MS-OLK-AUTOFILLLOCATION:FALSE
X-MS-OLK-CONFTYPE:0
BEGIN:VALARM
TRIGGER:-PT1440M
ACTION:DISPLAY
DESCRIPTION:Reminder
END:VALARM
END:VEVENT
END:VCALENDAR
