BEGIN:VCALENDAR
PRODID:-//Microsoft Corporation//Outlook 12.0 MIMEDIR//EN
VERSION:2.0
METHOD:PUBLISH
X-MS-OLK-FORCEINSPECTOROPEN:TRUE
BEGIN:VEVENT
CLASS:PUBLIC
CREATED:20260419T160228Z
DESCRIPTION:Generative design and topology optimization are areas of tremendous interest in product engineering, but they are often confused. Ansys Discovery combines them and removes traditional design process complications, enabling engineers to explore and iterate multiple CAD-ready solutions.\n
DTSTART:20201020T170000
DTEND:20201020T180000
DTSTAMP:20260419T160228Z
LOCATION:Online
PRIORITY:5
SEQUENCE:0
SUMMARY;LANGUAGE=es-es:Tecnowebinars.com - :: 7 Tips in 17 Minutes: Exploring Topology Optimization
TRANSP:OPAQUE
UID:b790435fdeb9e95196f7ef973d8a02f8 Tecnowebinars.com
X-MICROSOFT-CDO-BUSYSTATUS:BUSY
X-MICROSOFT-CDO-IMPORTANCE:1
X-MICROSOFT-DISALLOW-COUNTER:FALSE
X-MS-OLK-ALLOWEXTERNCHECK:TRUE
X-MS-OLK-AUTOFILLLOCATION:FALSE
X-MS-OLK-CONFTYPE:0
BEGIN:VALARM
TRIGGER:-PT1440M
ACTION:DISPLAY
DESCRIPTION:Reminder
END:VALARM
END:VEVENT
END:VCALENDAR
