BEGIN:VCALENDAR
PRODID:-//Microsoft Corporation//Outlook 12.0 MIMEDIR//EN
VERSION:2.0
METHOD:PUBLISH
X-MS-OLK-FORCEINSPECTOROPEN:TRUE
BEGIN:VEVENT
CLASS:PUBLIC
CREATED:20260419T160259Z
DESCRIPTION:This webinar spotlights a workflow that utilizes Altum Designer's PCB layout together with its field solvers in Ansys SIwave to diagnose radiated EMI, analyze crosstalk between multiple nets and visually spot impedance variations. \n
DTSTART:20201020T170000
DTEND:20201020T180000
DTSTAMP:20260419T160259Z
LOCATION:Online
PRIORITY:5
SEQUENCE:0
SUMMARY;LANGUAGE=es-es:Tecnowebinars.com - :: Solving PCB Signal Integrity Issues with Altium Designer and Ansys SIwave
TRANSP:OPAQUE
UID:555a7dd113491d490eef0fec1f2f1a2d Tecnowebinars.com
X-MICROSOFT-CDO-BUSYSTATUS:BUSY
X-MICROSOFT-CDO-IMPORTANCE:1
X-MICROSOFT-DISALLOW-COUNTER:FALSE
X-MS-OLK-ALLOWEXTERNCHECK:TRUE
X-MS-OLK-AUTOFILLLOCATION:FALSE
X-MS-OLK-CONFTYPE:0
BEGIN:VALARM
TRIGGER:-PT1440M
ACTION:DISPLAY
DESCRIPTION:Reminder
END:VALARM
END:VEVENT
END:VCALENDAR
