BEGIN:VCALENDAR
PRODID:-//Microsoft Corporation//Outlook 12.0 MIMEDIR//EN
VERSION:2.0
METHOD:PUBLISH
X-MS-OLK-FORCEINSPECTOROPEN:TRUE
BEGIN:VEVENT
CLASS:PUBLIC
CREATED:20260419T160301Z
DESCRIPTION:This 45-minute webinar charts the evolution of HFSS to become the established industry leader in antenna design. Learn about new high-performance computing (HPC) capabilities in HFSS and explore how it supports antenna modeling.\n
DTSTART:20201020T150000
DTEND:20201020T160000
DTSTAMP:20260419T160301Z
LOCATION:Online
PRIORITY:5
SEQUENCE:0
SUMMARY;LANGUAGE=es-es:Tecnowebinars.com - :: Novel, Efficient Antenna System Design Using HPC Capabilities in Ansys HFSS
TRANSP:OPAQUE
UID:19cb8788a0b5573640893a49357de937 Tecnowebinars.com
X-MICROSOFT-CDO-BUSYSTATUS:BUSY
X-MICROSOFT-CDO-IMPORTANCE:1
X-MICROSOFT-DISALLOW-COUNTER:FALSE
X-MS-OLK-ALLOWEXTERNCHECK:TRUE
X-MS-OLK-AUTOFILLLOCATION:FALSE
X-MS-OLK-CONFTYPE:0
BEGIN:VALARM
TRIGGER:-PT1440M
ACTION:DISPLAY
DESCRIPTION:Reminder
END:VALARM
END:VEVENT
END:VCALENDAR
