BEGIN:VCALENDAR
PRODID:-//Microsoft Corporation//Outlook 12.0 MIMEDIR//EN
VERSION:2.0
METHOD:PUBLISH
X-MS-OLK-FORCEINSPECTOROPEN:TRUE
BEGIN:VEVENT
CLASS:PUBLIC
CREATED:20260419T160325Z
DESCRIPTION:This webinar explores concepts for calculating the light propagation in biological tissues and for determining scattering and absorption spectra of biological tissues. We will present examples of optical simulations for biomedical applications and discuss use cases for Ansys optical modeling of biomedical systems.\n
DTSTART:20201020T113000
DTEND:20201020T123000
DTSTAMP:20260419T160325Z
LOCATION:Online
PRIORITY:5
SEQUENCE:0
SUMMARY;LANGUAGE=es-es:Tecnowebinars.com - :: Optical and Radiometric Simulation for Biomedical Applications
TRANSP:OPAQUE
UID:c0cb714d7e893d36d3853fbe6f60b776 Tecnowebinars.com
X-MICROSOFT-CDO-BUSYSTATUS:BUSY
X-MICROSOFT-CDO-IMPORTANCE:1
X-MICROSOFT-DISALLOW-COUNTER:FALSE
X-MS-OLK-ALLOWEXTERNCHECK:TRUE
X-MS-OLK-AUTOFILLLOCATION:FALSE
X-MS-OLK-CONFTYPE:0
BEGIN:VALARM
TRIGGER:-PT1440M
ACTION:DISPLAY
DESCRIPTION:Reminder
END:VALARM
END:VEVENT
END:VCALENDAR
