BEGIN:VCALENDAR
PRODID:-//Microsoft Corporation//Outlook 12.0 MIMEDIR//EN
VERSION:2.0
METHOD:PUBLISH
X-MS-OLK-FORCEINSPECTOROPEN:TRUE
BEGIN:VEVENT
CLASS:PUBLIC
CREATED:20260419T161122Z
DESCRIPTION:Learn about the latest innovations and updates in Ansys Fluent, focusing on ease-of-use, performance and accuracy. With these improvements you can efficiently and accurately simulate the most complex flow, thermal, combustion, acoustics and other fluids problems.\n
DTSTART:20201020T183000
DTEND:20201020T193000
DTSTAMP:20260419T161122Z
LOCATION:Online
PRIORITY:5
SEQUENCE:0
SUMMARY;LANGUAGE=es-es:Tecnowebinars.com - :: Accelerate Productivity and Innovation with Ansys Fluent
TRANSP:OPAQUE
UID:e0e79744e7cebf45ebbfd6de5f66a167 Tecnowebinars.com
X-MICROSOFT-CDO-BUSYSTATUS:BUSY
X-MICROSOFT-CDO-IMPORTANCE:1
X-MICROSOFT-DISALLOW-COUNTER:FALSE
X-MS-OLK-ALLOWEXTERNCHECK:TRUE
X-MS-OLK-AUTOFILLLOCATION:FALSE
X-MS-OLK-CONFTYPE:0
BEGIN:VALARM
TRIGGER:-PT1440M
ACTION:DISPLAY
DESCRIPTION:Reminder
END:VALARM
END:VEVENT
END:VCALENDAR
