BEGIN:VCALENDAR
PRODID:-//Microsoft Corporation//Outlook 12.0 MIMEDIR//EN
VERSION:2.0
METHOD:PUBLISH
X-MS-OLK-FORCEINSPECTOROPEN:TRUE
BEGIN:VEVENT
CLASS:PUBLIC
CREATED:20260419T143636Z
DESCRIPTION:This year, it’s become clear that the intelligently automated, hyper-connected and super agile businesses have come out on top. Driving these business competencies has allowed organizations to adapt and overcome in the face of unprecedented business disruption. Without our daily working norms, monitoring and maintaining the quality, efficiency and speed of operations from afar would be near impossible without intelligent automation.\nReturning for its 5th year, but the first fully virtually, we are proud to announce the return of IA Week Europe. Joining executives in technology, innovation and transformation fields from November 17–18, to explore strategies and insights through deep-dive case studies and interactive panel discussions. Learn how you can achieve an intelligent enterprise by automating end-to-end at scale, uncover real-time granular insights into the inner workings of operations, shape a skilled workforce promoted to performing high-value tasks, and take control of once complex and unstructured data. \n \nWe welcome you to share, learn and connect with the leading minds in automation and digital transformation across both Europe and America. \n Agenda día 2:\n12:00 pm - 1:00 pm Re-Aligning IA with Business Transformation Objectives to Deliver End-to-End Impact\nMilan Parmar - Head of Service Management - Networks Managed Service Delivery, Ericsson \n1:00 pm - 2:00 pm Leading a Seamless RPA Journey: Key Learnings to Maximize Success and Avoid RPA Shortcomings\n2:00 pm - 3:00 pm Assessing Hyperautomation: The Next Wave of Business Connectivity through IA\n3:00 pm - 4:00 pm Why Design Thinking is The Way to Approach Digital Transformation?\nGediminas Buivydas - Head of Digitization and RPA, Ignitis Group \n4:00 pm - 4:30 pm Promoting Low-Risk Sustainable Digital Innovation in the Organization\n
DTSTART:20201118T120000
DTEND:20201118T163000
DTSTAMP:20260419T143636Z
LOCATION:Online
PRIORITY:5
SEQUENCE:0
SUMMARY;LANGUAGE=es-es:Tecnowebinars.com - :: Intelligent Automation Week Europe. Día 2
TRANSP:OPAQUE
UID:3b03ac411be5c9e10d96c2793a81e50e Tecnowebinars.com
X-MICROSOFT-CDO-BUSYSTATUS:BUSY
X-MICROSOFT-CDO-IMPORTANCE:1
X-MICROSOFT-DISALLOW-COUNTER:FALSE
X-MS-OLK-ALLOWEXTERNCHECK:TRUE
X-MS-OLK-AUTOFILLLOCATION:FALSE
X-MS-OLK-CONFTYPE:0
BEGIN:VALARM
TRIGGER:-PT1440M
ACTION:DISPLAY
DESCRIPTION:Reminder
END:VALARM
END:VEVENT
END:VCALENDAR
