BEGIN:VCALENDAR
PRODID:-//Microsoft Corporation//Outlook 12.0 MIMEDIR//EN
VERSION:2.0
METHOD:PUBLISH
X-MS-OLK-FORCEINSPECTOROPEN:TRUE
BEGIN:VEVENT
CLASS:PUBLIC
CREATED:20260419T143531Z
DESCRIPTION:This year, it’s become clear that the intelligently automated, hyper-connected and super agile businesses have come out on top. Driving these business competencies has allowed organizations to adapt and overcome in the face of unprecedented business disruption. Without our daily working norms, monitoring and maintaining the quality, efficiency and speed of operations from afar would be near impossible without intelligent automation.\nReturning for its 5th year, but the first fully virtually, we are proud to announce the return of IA Week Europe. Joining executives in technology, innovation and transformation fields from November 17–18, to explore strategies and insights through deep-dive case studies and interactive panel discussions. Learn how you can achieve an intelligent enterprise by automating end-to-end at scale, uncover real-time granular insights into the inner workings of operations, shape a skilled workforce promoted to performing high-value tasks, and take control of once complex and unstructured data. \n \nWe welcome you to share, learn and connect with the leading minds in automation and digital transformation across both Europe and America. \n \nAgenda día 1:\n \n12:00 pm - 12:30 pm The Future of IA: Predicting the New Wave of Trends, Pitfalls and Business Opportunities\nAnish Agarwal - Director, Data & Analytics, NatWest \n1:00 pm - 2:00 pm Creating a Roadmap for Deploying, Scaling and Accelerating Automation\n2:00 pm - 3:00 pm Leveraging Advanced Artificial Intelligence Solutions to Revitalize Processes\n3:00 pm - 4:00 pm Augmented Intelligence: How to Achieve Powerful Human-Machine Collaboration\n4:00 pm - 4:30 pm Humanizing Technology: How to Promote the Workforce by Deploying Intelligent Automation\nSamuel Best - Assistant Vice President, Business Automation, GM Financial \nIeva Vencevicitue - Principal Development Consultant/Programme Manager, Banking services, Danske Bank \nAnna Alechno - Former Global Process Improvement and Automation Lead, IKEA\n
DTSTART:20201117T120000
DTEND:20201117T163000
DTSTAMP:20260419T143531Z
LOCATION:Online
PRIORITY:5
SEQUENCE:0
SUMMARY;LANGUAGE=es-es:Tecnowebinars.com - :: Intelligent Automation Week Europe. Día 1
TRANSP:OPAQUE
UID:e893c53bced3c3cd48c57ad676910635 Tecnowebinars.com
X-MICROSOFT-CDO-BUSYSTATUS:BUSY
X-MICROSOFT-CDO-IMPORTANCE:1
X-MICROSOFT-DISALLOW-COUNTER:FALSE
X-MS-OLK-ALLOWEXTERNCHECK:TRUE
X-MS-OLK-AUTOFILLLOCATION:FALSE
X-MS-OLK-CONFTYPE:0
BEGIN:VALARM
TRIGGER:-PT1440M
ACTION:DISPLAY
DESCRIPTION:Reminder
END:VALARM
END:VEVENT
END:VCALENDAR
