BEGIN:VCALENDAR
PRODID:-//Microsoft Corporation//Outlook 12.0 MIMEDIR//EN
VERSION:2.0
METHOD:PUBLISH
X-MS-OLK-FORCEINSPECTOROPEN:TRUE
BEGIN:VEVENT
CLASS:PUBLIC
CREATED:20260419T160427Z
DESCRIPTION:The current and future trends that will have a positive effect on C5ISR capabilities in mission critical systems. With the advent of edge computing and the benefits of 5G it is understood that emerging networks and data fusion will revolutionize battlefield information. Artificial intelligence, machine learning and smart sensors will interact at the secure tactical edge with superior benefits to the tactical network. Utilizing a LEGO building block methodology, extensible and sustainable battlefield systems can be crafted by combining the benefits of both COTS and bespoke hardware.\n6 Key Takeaways:\nImplementation of 5g and AI in small form factor computing\nReal-time decision making information for Warfighters\nSmart edge device and sensor data fusion\nCyber Security\nEdge Computing for mission-critical applications\nBenefits of crafted vs. custom made hardware\nSpeaker:\nJohn Rees, Key Account Manager, Advantech\nKevin Lytle, Technical Project Manager, Advantech\nModerator: \nJohn McHale, Military Embedded Systems, OpenSystems Media\n
DTSTART:20201022T200000
DTEND:20201022T210000
DTSTAMP:20260419T160427Z
LOCATION:Online
PRIORITY:5
SEQUENCE:0
SUMMARY;LANGUAGE=es-es:Tecnowebinars.com - :: Implementing Edge Computing in Military Applications
TRANSP:OPAQUE
UID:27dd70d8db88395d3b2b969960893bf7 Tecnowebinars.com
X-MICROSOFT-CDO-BUSYSTATUS:BUSY
X-MICROSOFT-CDO-IMPORTANCE:1
X-MICROSOFT-DISALLOW-COUNTER:FALSE
X-MS-OLK-ALLOWEXTERNCHECK:TRUE
X-MS-OLK-AUTOFILLLOCATION:FALSE
X-MS-OLK-CONFTYPE:0
BEGIN:VALARM
TRIGGER:-PT1440M
ACTION:DISPLAY
DESCRIPTION:Reminder
END:VALARM
END:VEVENT
END:VCALENDAR
