BEGIN:VCALENDAR
PRODID:-//Microsoft Corporation//Outlook 12.0 MIMEDIR//EN
VERSION:2.0
METHOD:PUBLISH
X-MS-OLK-FORCEINSPECTOROPEN:TRUE
BEGIN:VEVENT
CLASS:PUBLIC
CREATED:20260419T161218Z
DESCRIPTION:La combinación de tecnología y estrategia de inteligencia empresarial permite a las empresas conocer sus datos históricos, informar sobre el estado del presente y pronosticar los resultados futuros. Estas capacidades son un componente crítico de la transformación digital de las organizaciones. La inteligencia empresarial mejorada con funciones analíticas inteligentes y aumentadas y las implementaciones en cloud, agilizan esta transformación porque facilitan la obtención del conocimiento a los usuarios y analistas. \nAcompáñanos en este evento online donde abordaremos las claves para la innovación basada en conocimiento útil, sistemas de datos autónomos e Inteligencia Artificial. Contaremos con dos grandes expertos del mercado: por un lado tendremos la experiencia de SMARTCLIP donde su responsable de Business & Competitive Intelligence nos hablará del papel que la tecnología de analítica de datos de Oracle ha desempeñado en el proceso de transformación de esta agencia digital. También contaremos con Marc Vidal, gran experto en transformación digital y análisis económico, que hablará no sólo de la importancia del dato y de la analítica avanzada en la transformación digital e innovación de las organización, también profundizará en los momentos que ahora vivimos y cómo afrontarlos.\nAgenda:\n10:00 – 10:10 \nDe la inteligencia de negocio a la analítica aumentada: \nLa transformación digital, hoy\nFrancisco Romero, Technology Country Leader, Oracle Iberia\n10:10 – 10:40 \nEl Análisis de Datos como impulsor de la competitividad: Más allá de los cuadros de mando\nAlexis Urvoy, responsable de Business & Competitive Intelligence – SMARTCLIP\n10:40 – 11:15 \nDel dato a la analítica, de la analítica a la información y de la información al conocimiento\nMarc Vidal, analista económico y divulgador tecnológico | Head of Allrework\n11:15 – 11:30\nQ&A\n
DTSTART:20201021T100000
DTEND:20201021T113000
DTSTAMP:20260419T161218Z
LOCATION:Online
PRIORITY:5
SEQUENCE:0
SUMMARY;LANGUAGE=es-es:Tecnowebinars.com - :: Analítica de Oracle en Smartclip (publicidad de TV)
TRANSP:OPAQUE
UID:3ed52f6a2fa9838be900c8f48553ccfd Tecnowebinars.com
X-MICROSOFT-CDO-BUSYSTATUS:BUSY
X-MICROSOFT-CDO-IMPORTANCE:1
X-MICROSOFT-DISALLOW-COUNTER:FALSE
X-MS-OLK-ALLOWEXTERNCHECK:TRUE
X-MS-OLK-AUTOFILLLOCATION:FALSE
X-MS-OLK-CONFTYPE:0
BEGIN:VALARM
TRIGGER:-PT1440M
ACTION:DISPLAY
DESCRIPTION:Reminder
END:VALARM
END:VEVENT
END:VCALENDAR
