BEGIN:VCALENDAR
PRODID:-//Microsoft Corporation//Outlook 12.0 MIMEDIR//EN
VERSION:2.0
METHOD:PUBLISH
X-MS-OLK-FORCEINSPECTOROPEN:TRUE
BEGIN:VEVENT
CLASS:PUBLIC
CREATED:20260419T143610Z
DESCRIPTION:Asistimos a un cambio sin precedentes en el que la economía de los datos sustituye a la economía de la producción y donde los algoritmos se hacen esenciales.\nUna revolución provocada por datos, algoritmos y sensores en la que habrá perdedores y ganadores ¿En qué bando quieres estar?\n \nEn esta jornada, líderes expertos en BigData, BI, IoT y analítica de datos compartirán sus experiencias en la aplicación de dichas tecnologías a la empresa, y cómo éstas han alcanzado ventajas analíticas para convertirse en verdaderas empresas Data Driven. Además nos contarán su visión de futuro en relación a los datos.\n \nAgenda:\n18:00 a 18:10\nPresentación por Pascual Parada\n18:10 a 18:30\nEl futuro de las plataformas de análisis de datos\nALBERTO MORALES\nCEO & FOUNDER AT DATUARY & BIUWER\n18:30 a 18:50\nCómo generar beneficios a través de los datos\nJACINTO ARIAS\nCO-FOUNDER & CEO AT TAIDY\n18:50 a 19:10\n5G, IoT e IA marcarán el futuro de la disrupción tecnológica digital\nPASCUAL PARADA\nCHIEF INNOVATION OFFICER EN IEBS\n19:10 a 19:30\nEl secreto que esconden los datos para la captación de clientes\nGABRIEL GONZÁLEZ\nDATA STRATEGY EXECUTIVE DIRECTOR AT BBVA\n19:30 a 19:40\nInnovación y oportunidades en la aplicación de tecnología IoT en la empresa\nANGEL SÁNCHEZ\nCO-FOUNDER & GENERAL MANAGER DE GEEKSME\n19:40 a 20:00\nInteligencia Activa: La última frontera del dato\nFERRÁN GARCÍA PAGANS\nSTRATEGY AND BUSINESS VALUE AT QLIK\n
DTSTART:20201029T200000
DTEND:20201029T220000
DTSTAMP:20260419T143610Z
LOCATION:Online
PRIORITY:5
SEQUENCE:0
SUMMARY;LANGUAGE=es-es:Tecnowebinars.com - :: The Future of Data & IOT
TRANSP:OPAQUE
UID:8addc5e06ee87bb8770a83bc8bea3610 Tecnowebinars.com
X-MICROSOFT-CDO-BUSYSTATUS:BUSY
X-MICROSOFT-CDO-IMPORTANCE:1
X-MICROSOFT-DISALLOW-COUNTER:FALSE
X-MS-OLK-ALLOWEXTERNCHECK:TRUE
X-MS-OLK-AUTOFILLLOCATION:FALSE
X-MS-OLK-CONFTYPE:0
BEGIN:VALARM
TRIGGER:-PT1440M
ACTION:DISPLAY
DESCRIPTION:Reminder
END:VALARM
END:VEVENT
END:VCALENDAR
