BEGIN:VCALENDAR
PRODID:-//Microsoft Corporation//Outlook 12.0 MIMEDIR//EN
VERSION:2.0
METHOD:PUBLISH
X-MS-OLK-FORCEINSPECTOROPEN:TRUE
BEGIN:VEVENT
CLASS:PUBLIC
CREATED:20260419T143657Z
DESCRIPTION:VER VIDEO\nInfor EAM es uno de los sistemas de Gestión de activos empresariales más conocidos a nivel mundial.\nAyuda a digitalizar y optimizar las operaciones de mantenimiento para alcanzar nuevos niveles de eficiencia. Esta solución del siglo XXI está construida en ediciones específicas de la industria para abordar sus desafíos únicos.\nA diferencia de las soluciones de nicho que no pueden crecer, o los productos complementarios ERP que requieren una amplia personalización, Infor EAM es un software de gestión de activos especialmente diseñado que está listo para escalar y transformarse a medida que las organizaciones evolucionan.\nEn este webinar uno de los principales partners en Europa del EAM del fabricante americano nos pondrá al día del conjunto de herramientas que se están utilizando hoy para hacer una gestión de mantenimiento de última generación o "4.0". \nNos explicarán cómo se utilizan diferentes herramientas y software para ello: Sensores IoT, APM, RCM, CBM, Datalake, Analítica Birst...\nLa Agenda del Webinar:\n• Utilizaremos como caso de uso una bomba de agua.\n• Estableceremos los límites de funcionamiento, en concreto de aviso y de alarma para dicha bomba \n• Compararemos la información en tiempo real proveniente de los sensores con los valores límites definidos \n• Evaluaremos el estado del equipo basándonos en Listas de Inspección/ Encuestas ya predefinidas.   \n• En base a los datos de los sensores se establece la predicción del fallo y la condición de intervención, usando el módulo Infor EAM Alert Management.\n• Utilizaremos estos datos para generar gráficos de la vida útil del equipo (Decay Curves)\n• Visualizaremos todos los parámetros e indicadores con la aplicación de análisis  Infor Birst  \n \n
DTSTART:20201126T110000
DTEND:20201126T120000
DTSTAMP:20260419T143657Z
LOCATION:Online
PRIORITY:5
SEQUENCE:0
SUMMARY;LANGUAGE=es-es:Tecnowebinars.com - :: Mantenimiento 4.0 con Infor EAM
TRANSP:OPAQUE
UID:a14ddef745492054092245a2806d57cf Tecnowebinars.com
X-MICROSOFT-CDO-BUSYSTATUS:BUSY
X-MICROSOFT-CDO-IMPORTANCE:1
X-MICROSOFT-DISALLOW-COUNTER:FALSE
X-MS-OLK-ALLOWEXTERNCHECK:TRUE
X-MS-OLK-AUTOFILLLOCATION:FALSE
X-MS-OLK-CONFTYPE:0
BEGIN:VALARM
TRIGGER:-PT1440M
ACTION:DISPLAY
DESCRIPTION:Reminder
END:VALARM
END:VEVENT
END:VCALENDAR
