BEGIN:VCALENDAR
PRODID:-//Microsoft Corporation//Outlook 12.0 MIMEDIR//EN
VERSION:2.0
METHOD:PUBLISH
X-MS-OLK-FORCEINSPECTOROPEN:TRUE
BEGIN:VEVENT
CLASS:PUBLIC
CREATED:20260419T143609Z
DESCRIPTION:Samsung AI Forum 2020 se transmitirá a través de su canal de YouTube durante dos días: del 2 al 3 de noviembre. Con motivo de su cuarto aniversario, el foro reunirá a expertos en Inteligencia Artificial (IA) para exponer ideas, conocimientos y los resultados de investigación más recientes, así como el futuro de la IA.\nDía 2: La IA centrada en el ser humano\nSesiones del día 2:\n“Procesamiento del lenguaje natural” por el Prof. Christopher Manning, Universidad de Stanford\n“Visión” del Prof. Devi Parikh, del Instituto de Tecnología de Georgia\n“Interacción humano-robot” por el Prof. Subbarao Kambhampati, Universidad Estatal de Arizona\n“Robótica” por el Prof. Daniel D. Lee, Cornell Tech, Vicepresidente Ejecutivo de Samsung Research y Director del Samsung AI Center-Nueva York\n
DTSTART:20201103T120000
DTEND:20201103T190000
DTSTAMP:20260419T143609Z
LOCATION:Online
PRIORITY:5
SEQUENCE:0
SUMMARY;LANGUAGE=es-es:Tecnowebinars.com - :: “Samsung AI Forum 2020” explora el futuro de la Inteligencia Artificial. Día 2
TRANSP:OPAQUE
UID:8ec2c1d107d174c0a92baa110043029c Tecnowebinars.com
X-MICROSOFT-CDO-BUSYSTATUS:BUSY
X-MICROSOFT-CDO-IMPORTANCE:1
X-MICROSOFT-DISALLOW-COUNTER:FALSE
X-MS-OLK-ALLOWEXTERNCHECK:TRUE
X-MS-OLK-AUTOFILLLOCATION:FALSE
X-MS-OLK-CONFTYPE:0
BEGIN:VALARM
TRIGGER:-PT1440M
ACTION:DISPLAY
DESCRIPTION:Reminder
END:VALARM
END:VEVENT
END:VCALENDAR
