BEGIN:VCALENDAR
PRODID:-//Microsoft Corporation//Outlook 12.0 MIMEDIR//EN
VERSION:2.0
METHOD:PUBLISH
X-MS-OLK-FORCEINSPECTOROPEN:TRUE
BEGIN:VEVENT
CLASS:PUBLIC
CREATED:20260419T144859Z
DESCRIPTION:Samsung AI Forum 2020 se transmitirá a través de su canal de YouTube durante dos días: del 2 al 3 de noviembre. Con motivo de su cuarto aniversario, el foro reunirá a expertos en Inteligencia Artificial (IA) para exponer ideas, conocimientos y los resultados de investigación más recientes, así como el futuro de la IA.\n \nDía 1: Tecnologías de IA para cambios en el mundo real\n \nSesiones del día 1:\n“Hacia el descubrimiento de representaciones causales” por el Prof. Yoshua Bengio, de la Universidad de Montreal\n“Aprendizaje auto-supervisado” por el Prof. Yann LeCun, Universidad de Nueva York\n“Metaaprendizaje: de la adaptación a partir de pocos ejemplos al descubrimiento de simetrías” por la Prof. Chelsea Finn, Universidad de Stanford\n“Reconstrucción del cerebro” por el Prof. Donhee Ham, miembro del Instituto de Tecnología Avanzada de Samsung, profesor de la Universidad de Harvard\n“Inteligibilidad en el ciclo de vida del aprendizaje automático” por la Dra. Jennifer Wortman Vaughan, Microsoft Research\n“Modelos extremo a extremo para el reconocimiento de voz” por la Dra. Tara Sainath, Google Research\n
DTSTART:20201102T120000
DTEND:20201102T190000
DTSTAMP:20260419T144859Z
LOCATION:Online
PRIORITY:5
SEQUENCE:0
SUMMARY;LANGUAGE=es-es:Tecnowebinars.com - :: “Samsung AI Forum 2020” explora el futuro de la Inteligencia Artificial. Día 1
TRANSP:OPAQUE
UID:c0ac131105d31682e666a5bdacdb8464 Tecnowebinars.com
X-MICROSOFT-CDO-BUSYSTATUS:BUSY
X-MICROSOFT-CDO-IMPORTANCE:1
X-MICROSOFT-DISALLOW-COUNTER:FALSE
X-MS-OLK-ALLOWEXTERNCHECK:TRUE
X-MS-OLK-AUTOFILLLOCATION:FALSE
X-MS-OLK-CONFTYPE:0
BEGIN:VALARM
TRIGGER:-PT1440M
ACTION:DISPLAY
DESCRIPTION:Reminder
END:VALARM
END:VEVENT
END:VCALENDAR
