BEGIN:VCALENDAR
PRODID:-//Microsoft Corporation//Outlook 12.0 MIMEDIR//EN
VERSION:2.0
METHOD:PUBLISH
X-MS-OLK-FORCEINSPECTOROPEN:TRUE
BEGIN:VEVENT
CLASS:PUBLIC
CREATED:20260419T143729Z
DESCRIPTION:Finding the right way to increase software adoption can be difficult. One of the key challenges with getting true ROI from technology investments has been recruiting or upskilling staff who can make the most of what you’ve purchased. That’s where Digital Adoption Platforms can help, simplifying software usage so anyone can instantly use it without formal training.  Learn what moved the needle in favor of a Digital Adoption Platform for SAP. Gain detailed insights on the decision making process, how the DAP was implemented internally and results from the first stage of implementation.\nSAP is leveraging Userlane DAP to inspire, excite and provide an experience for their  customers and future customers by gaining insights and data value. Unlike the typical use, SAP adopted Userlane as a sales and demand generation tool allowing them to drive revenue in a time where every penny counts.\n \nThis webinar will explore:\n \nKey elements of the decision-making process behind the investment in a Digital Adoption Platform\nResults of the first stage of implementation of the digital adoption platform for SAP\nHow to justify the investment in Digital Adoption Platform \nHow to implement the Digital Adoption Platform within your organization, including both internal and external usage (employee and customer training)\n \nPresenters:\nRoland Krijnen \nVP ICA - Platform & Technologies Regional Ambassador for EMEA North & PSA\nSAP\nVice President Industry and Customer Advisory for Platform & Technologies at SAP\nJonathan Gregory \nHead of Partnerships\nUserlane\n
DTSTART:20201028T160000
DTEND:20201028T170000
DTSTAMP:20260419T143729Z
LOCATION:Online
PRIORITY:5
SEQUENCE:0
SUMMARY;LANGUAGE=es-es:Tecnowebinars.com - :: How SAP predicts the ROI of a Digital Adoption Platform
TRANSP:OPAQUE
UID:52de110cd9cc64954035efb297c25a36 Tecnowebinars.com
X-MICROSOFT-CDO-BUSYSTATUS:BUSY
X-MICROSOFT-CDO-IMPORTANCE:1
X-MICROSOFT-DISALLOW-COUNTER:FALSE
X-MS-OLK-ALLOWEXTERNCHECK:TRUE
X-MS-OLK-AUTOFILLLOCATION:FALSE
X-MS-OLK-CONFTYPE:0
BEGIN:VALARM
TRIGGER:-PT1440M
ACTION:DISPLAY
DESCRIPTION:Reminder
END:VALARM
END:VEVENT
END:VCALENDAR
