BEGIN:VCALENDAR
PRODID:-//Microsoft Corporation//Outlook 12.0 MIMEDIR//EN
VERSION:2.0
METHOD:PUBLISH
X-MS-OLK-FORCEINSPECTOROPEN:TRUE
BEGIN:VEVENT
CLASS:PUBLIC
CREATED:20260419T160301Z
DESCRIPTION:Barcode reading technology has become a critical component for many applications in different sectors. Because it has gone through many transformative years, it's hard to keep up with all the advancements. This webinar will provide a high level overview of barcode technology and how you can best optimize it in your business. \nYou will learn:\n \nHow barcode technology is being used\nAdvancements in barcode technology\nApplication challenges and solutions\nPredictions for 2021 and beyond\n \nSpeaker:\nJacek Hanslik\nSales Manager ID\n
DTSTART:20201022T110000
DTEND:20201022T113000
DTSTAMP:20260419T160301Z
LOCATION:Online
PRIORITY:5
SEQUENCE:0
SUMMARY;LANGUAGE=es-es:Tecnowebinars.com - :: The Evolution of Barcode Reading Technology
TRANSP:OPAQUE
UID:655dcd249ab26c2bd10d9ea5918135b5 Tecnowebinars.com
X-MICROSOFT-CDO-BUSYSTATUS:BUSY
X-MICROSOFT-CDO-IMPORTANCE:1
X-MICROSOFT-DISALLOW-COUNTER:FALSE
X-MS-OLK-ALLOWEXTERNCHECK:TRUE
X-MS-OLK-AUTOFILLLOCATION:FALSE
X-MS-OLK-CONFTYPE:0
BEGIN:VALARM
TRIGGER:-PT1440M
ACTION:DISPLAY
DESCRIPTION:Reminder
END:VALARM
END:VEVENT
END:VCALENDAR
