BEGIN:VCALENDAR
PRODID:-//Microsoft Corporation//Outlook 12.0 MIMEDIR//EN
VERSION:2.0
METHOD:PUBLISH
X-MS-OLK-FORCEINSPECTOROPEN:TRUE
BEGIN:VEVENT
CLASS:PUBLIC
CREATED:20260419T161342Z
DESCRIPTION:RPA ofrece una fuerza de trabajo virtual de robots de software para realizar acciones cotidianas dentro de las empresas, liberando a su personal para agregar valor a su negocio.\n \nEn este webinar se explicará la mejor estrategia para lograr una transformación digital completa combinando BPM y RPA ya que, aunque ambos buscan la optimización del proceso, su área de influencia es diferente y cada caso requerirá una mayor presencia de uno u otro.\n
DTSTART:20201013T170000
DTEND:20201013T180000
DTSTAMP:20260419T161342Z
LOCATION:Online
PRIORITY:5
SEQUENCE:0
SUMMARY;LANGUAGE=es-es:Tecnowebinars.com - :: BPM + RPA con auraquantic. Intro y demo
TRANSP:OPAQUE
UID:bab1ace9b5b094974f6641a8ce12383d Tecnowebinars.com
X-MICROSOFT-CDO-BUSYSTATUS:BUSY
X-MICROSOFT-CDO-IMPORTANCE:1
X-MICROSOFT-DISALLOW-COUNTER:FALSE
X-MS-OLK-ALLOWEXTERNCHECK:TRUE
X-MS-OLK-AUTOFILLLOCATION:FALSE
X-MS-OLK-CONFTYPE:0
BEGIN:VALARM
TRIGGER:-PT1440M
ACTION:DISPLAY
DESCRIPTION:Reminder
END:VALARM
END:VEVENT
END:VCALENDAR
