BEGIN:VCALENDAR
PRODID:-//Microsoft Corporation//Outlook 12.0 MIMEDIR//EN
VERSION:2.0
METHOD:PUBLISH
X-MS-OLK-FORCEINSPECTOROPEN:TRUE
BEGIN:VEVENT
CLASS:PUBLIC
CREATED:20260419T160427Z
DESCRIPTION:Manual inspections are prompt to face multiple challenges throughout the production line. But what if there is an easy way to catch every potential problem?\nCognex Deep Learning technology leverages the power of AI to increase yield, reduce waste, and improve product quality. \nFeatured Speaker:\nRuben Ferraz, Field Product Marketing\n \n
DTSTART:20201006T110000
DTEND:20201006T120000
DTSTAMP:20260419T160427Z
LOCATION:Online
PRIORITY:5
SEQUENCE:0
SUMMARY;LANGUAGE=es-es:Tecnowebinars.com - :: How to optimize inspection applications with Deep Learning
TRANSP:OPAQUE
UID:acd5b92295446942476616e3c6ad37c3 Tecnowebinars.com
X-MICROSOFT-CDO-BUSYSTATUS:BUSY
X-MICROSOFT-CDO-IMPORTANCE:1
X-MICROSOFT-DISALLOW-COUNTER:FALSE
X-MS-OLK-ALLOWEXTERNCHECK:TRUE
X-MS-OLK-AUTOFILLLOCATION:FALSE
X-MS-OLK-CONFTYPE:0
BEGIN:VALARM
TRIGGER:-PT1440M
ACTION:DISPLAY
DESCRIPTION:Reminder
END:VALARM
END:VEVENT
END:VCALENDAR
