BEGIN:VCALENDAR
PRODID:-//Microsoft Corporation//Outlook 12.0 MIMEDIR//EN
VERSION:2.0
METHOD:PUBLISH
X-MS-OLK-FORCEINSPECTOROPEN:TRUE
BEGIN:VEVENT
CLASS:PUBLIC
CREATED:20260419T162429Z
DESCRIPTION:Descubre cómo debe evolucionar la función financiera ante un escenario de incertidumbre general, y por qué debe asumir la responsabilidad de guiar al negocio.\nAPD y Oracle te invitan a un diálogo entre CEOs y CFOs sobre la importancia de los departamentos financieros para prever escenarios de incertidumbre, anticipando los riesgos y maximizando las oportunidades de negocio.\nDurante el evento podremos conocer las estrategias y experiencias de empresas líderes en éste campo, como Mango, Banc Sabadell, Inmobiliaria Colonial, Europastry y Emesa.\nSpeakers:\nJorge Bonnin, CFO de CEMENTOS MOLINS\nCarmina Ganyet, Directora General de INMOBILIARIA COLONIAL\nVanessa Llopart, CEO de EMESA\nJordi Morral, CEO de EUROPASTRY\nSergio Palavecino, CFO de BANC SABADELL\nAlbert Triola, Country Leader en España de ORACLE\nMargarita Salvans, CFO de MANGO\n
DTSTART:20201020T103000
DTEND:20201020T113000
DTSTAMP:20260419T162429Z
LOCATION:Online
PRIORITY:5
SEQUENCE:0
SUMMARY;LANGUAGE=es-es:Tecnowebinars.com - :: Estrategias para gestionar la incertidumbre desde la visión holística de la función financiera
TRANSP:OPAQUE
UID:ffe870d93f1922db750ae311baf7060f Tecnowebinars.com
X-MICROSOFT-CDO-BUSYSTATUS:BUSY
X-MICROSOFT-CDO-IMPORTANCE:1
X-MICROSOFT-DISALLOW-COUNTER:FALSE
X-MS-OLK-ALLOWEXTERNCHECK:TRUE
X-MS-OLK-AUTOFILLLOCATION:FALSE
X-MS-OLK-CONFTYPE:0
BEGIN:VALARM
TRIGGER:-PT1440M
ACTION:DISPLAY
DESCRIPTION:Reminder
END:VALARM
END:VEVENT
END:VCALENDAR
